Workbook

Sheet foglio1
B1: ORARIO DEFINITIVO A.S. 2026/2027
A2: DOCENTI | B2: MATERIA | C2: Lunedì | J2: Martedì | Q2: Mercoledì | X2: Giovedì | AE2: Venerdì
C3: 1 | D3: 2 | E3: 3 | F3: 4 | G3: 5 | H3: 6 | J3: 1 | K3: 2 | L3: 3 | M3: 4 | N3: 5 | O3: 6 | Q3: 1 | R3: 2 | S3: 3 | T3: 4 | U3: 5 | V3: 6 | X3: 1 | Y3: 2 | Z3: 3 | AA3: 4 | AB3: 5 | AC3: 6 | AE3: 1 | AF3: 2 | AG3: 3 | AH3: 4 | AI3: 5 | AJ3: 6
A4: AMATO A | B4: RELIGIONE | AH4: 2D | AI4: 3D | AJ4: 1D
A5: AMENDOLA S. | B5: Matematica | C5: 3B | D5: 1B | E5: 1B | F5: P | J5: 2B | K5: 2B | M5: P | O5: 1B | S5: P | T5: P | U5: 2B | V5: 3B | AA5: P | AB5: 3B | AC5: 3B | AF5: 1B | AG5: 2B | AH5: P
A6: BALDI G. | B6: Matematica | C6: 1C | D6: P | E6: P | G6: 3C | J6: 3C | K6: P | L6: 2C | M6: 1C | N6: 2E | U6: 2E | V6: 2E | Z6: 2E | AA6: P | AB6: 2E | AC6: 2C | AE6: P | AF6: P | AG6: 2E
A7: BISOGNO A. | B7: Scienze motorie | F7: 2A | G7: 2E | H7: 3A | S7: 3A | U7: X | V7: X | AA7: 2A | AB7: 1A | AC7: 2E | AG7: 1A | AI7: X | AJ7: X
A8: BRUNO A. | B8: musica | D8: x | E8: x | F8: x | G8: x | H8: x | K8: x | L8: x | M8: x | N8: x | O8: x | T8: 2A | U8: 3A | AB8: 3A | AC8: 2A | AF8: X | AG8: X | AH8: X | AI8: X | AJ8: X
A9: CACCIATORE F. | B9: musica | E9: 3B | F9: 2B | G9: 2D | H9: 2C | J9: 1C | K9: 1D | L9: 2B | M9: 1B | T9: 1B | V9: 1C | X9: 3C | Y9: 1D | Z9: 3D | AE9: 2D | AG9: 3D | AH9: 3C | AI9: 2C | AJ9: 3B
A10: CALIFANO S. | B10: Scienze motorie | F10: 3D | G10: 2B | H10: 2D | J10: 3D | K10: 3C | M10: 3B | N10: 1C | O10: 2C | Q10: 1D | R10: 2D | S10: 1B | X10: 1D | Y10: 3C | Z10: 1C | AA10: 2C | AE10: 2B | AF10: 3B | AH10: 1B
A11: CAPO G. | B11: religione | X11: 2C | Y11: 3B | Z11: 3C | AE11: 1B | AG11: 3A | AH11: 2B | AI11: 2A | AJ11: 1C
A12: CUOMO C. | B12: matematica | F12: P | G12: P | H12: 3C | L12: P | M12: P | N12: 2C | O12: 1C | Q12: 3C | R12: 3C | S12: P | T12: P | U12: 1C | X12: 1C | Y12: 1C | Z12: 2C | AE12: 2C | AF12: 2C | AG12: 3C
A13: DE SANTIS A. | B13: Lettere | C13: 3C | D13: 3C | E13: 1C | F13: 3C | K13: 1C | L13: 1C | N13: 3C | O13: 3C | Q13: 1C | R13: 1C | S13: 3C | T13: 3C | AA13: 1C | AB13: 3C | AC13: 3C | AE13: 1C | AF13: 3C | AG13: 1C
A14: DONATELLI F. | B14: Lettere | C14: 1A | D14: 2E | F14: 1D | G14: 3A | H14: 1C | AE14: 1A | AF14: 2E | AG14: 1D | AI14: 1C | AJ14: 3A
A15: DI DOMENICO S. | B15: Lettere | F15: 1B | G15: 1B | H15: 2B | J15: 1B | K15: 1B | L15: 1B | M15: P | Q15: 1B | R15: 1B | S15: P | X15: 2B | Y15: P | Z15: P | AA15: 1B | AB15: P | AH15: P | AI15: 1B | AJ15: 1B
A16: DI MARINO R. | B16: Arte | D16: 1D | F16: 1C | G16: 1D | H16: 3B | M16: 3C | N16: 2B | O16: 3D | Q16: 3D | R16: 3B | T16: 2D | U16: 1B | V16: 2C | X16: 2D | Y16: 1B | AG16: 2C | AH16: 1C | AI16: 2B | AJ16: 3C
A17: FARINA S. | B17: Lettere | C17: 2B | D17: 2B | F17: 3B | G17: 3B | J17: 3B | K17: 3B | L17: 3B | Q17: 3B | R17: 2B | T17: 2B | U17: 3B | Z17: 2B | AB17: 2B | AC17: 2B | AG17: 3B | AH17: 3B | AI17: 3B | AJ17: 2B
A18: LA RAGIONE I. | B18: Matematica | C18: x | D18: x | G18: P | H18: 1B | K18: P | L18: P | M18: P | N18: 1B | O18: 3B | Q18: 2B | R18: P | S18: 3B | T18: P | V18: 2B | X18: x | Y18: x | AI18: x | AJ18: x
A19: PAGLIETTA G. | B19: Francese | G19: 2C | H19: 1D | J19: 2A | K19: 3D | L19: 2E | N19: 3B | O19: 2B | Q19: 2C | R19: 1D | S19: 2B | X19: 3B | Z19: 1B | AA19: 2D | AB19: 2A | AC19: 1B | AH19: 3D | AI19: 2E | AJ19: 2D
A20: PEPE G. | B20: Lettere | C20: 2D | D20: 2D | E20: 2D | F20: 2E | J20: 2E | K20: 2E | M20: 2E | N20: 2D | Q20: 2E | R20: 2E | Z20: 2D | AA20: 2E | AB20: 2D | AC20: 2D | AF20: 2D | AG20: 2D | AI20: 2D | AJ20: 2E
A21: PISAPIA A. | B21: Inglese | C21: X | D21: X | E21: X | F21: X | G21: X | H21: X | J21: X | K21: X | L21: X | M21: X | N21: X | O21: X | S21: 2E | T21: 2E | U21: 1A | V21: 1A | X21: 2E | Y21: 1A | AE21: X | AF21: X | AG21: X | AH21: X | AI21: X | AJ21: X
A22: SANTORO M. | B22: Religione | Y22: 2E | Z22: 1A
A23: SCARABINO C. | B23: Matematica | E23: 1D | F23: 2D | G23: 3D | H23: 3D | J23: 2D | K23: 2D | L23: 1D | M23: 1D | R23: 3D | S23: 2D | T23: 3D | V23: 2D | Y23: 2D | AA23: 3D | AB23: 3D | AC23: 1D | AE23: 1D | AF23: 1D
A24: SICA S. | B24: Lettere | C24: 3A | D24: 2C | E24: 2C | J24: 3A | K24: 3A | L24: 3A | M24: 2C | S24: 2C | T24: 2C | U24: 2C | V24: 3A | Y24: 2C | AA24: 3A | AB24: 2C | AC24: 3A | AH24: 2C | AI24: 3A | AJ24: 2C
A25: SORRENTINO M. | B25: Lettere | F25: 1A | G25: 2A | H25: 2A | J25: 1A | K25: 1A | L25: 1A | M25: 2A | R25: 1A | T25: 1A | U25: 2A | V25: 2A | X25: 2A | Y25: 2A | Z25: 2A | AE25: 2A | AF25: 2A | AH25: 1A | AI25: 1A
A26: SPASIANO J. | B26: Tecnologia | C26: 2C | D26: 1C | E26: 2B | M26: 2D | N26: 3D | O26: 2E | Q26: 2D | R26: 2C | S26: 1C | U26: 1D | V26: 3C | Z26: 1D | AA26: 2B | AB26: 1B | AC26: 3D | AG26: 1B | AH26: 2E | AI26: 3C
A27: TREZZA R. | B27: Lettere | C27: 1D | D27: 3D | E27: 3D | L27: 3D | M27: 3D | N27: 1D | O27: 1D | S27: 1D | T27: 1D | U27: 3D | V27: 3D | X27: 3D | Y27: 3D | AA27: 1D | AB27: 1D | AE27: 3D | AF27: 3D | AH27: 1D
A28: TRIVISONE V. | B28: Inglese | C28: 3D | D28: 2A | E28: 3A | J28: 1D | K28: 2A | L28: 2D | N28: 2A | O28: 2D | S28: 3D | T28: 3A | U28: 2D | V28: 1D | AH28: 3A | AI28: 1D | AJ28: 3D
A29: VELARDO C. | B29: Arte | C29: 2E | D29: 1A | F29: X | G29: X | H29: X | K29: X | L29: X | N29: X | O29: X | Q29: X | R29: X | AB29: X | AC29: X | AE29: 2E | AF29: 1A | AH29: X | AI29: X | AJ29: X
A30: VIOLANTE G. | B30: Inlgese | C30: 1B | E30: 3C | F30: 2C | G30: 1C | J30: 2C | K30: 2C | L30: 3C | M30: 2B | T30: 1C | U30: 3C | V30: 1B | X30: 1B | Y30: 2B | Z30: 3B | AA30: 3B | AC30: 1C | AE30: 3B | AF30: 2B
A31: VITIELLO C. | B31: Tecnologia | D31: 3B | E31: 2A | F31: 3A | H31: 1A | M31: X | N31: X | O31: X | Q31: 2A | R31: 3A | S31: 1A | T31: 3B | X31: X | Y31: X | Z31: X | AB31: X | AC31: X | AE31: X | AF31: X
A32: ZITO R. | B32: Matematica | C32: 2A | D32: 3A | E32: 1A | L32: 2A | M32: 3A | N32: 1A | O32: 1A | Q32: 3A | R32: 2A | S32: 2A | X32: 1A | Z32: 3A | AA32: 1A | AE32: 3A | AF32: 3A | AG32: 2A | AH32: 2A | AJ32: 1A
A33: PARLATO | B33: spagnolo | J33: X | K33: X | M33: 1A | N33: 3A | O33: 3A | AA33: 3C | AB33: 1C | AC33: 1A | AE33: 3C | AF33: 1C | AI33: X | AJ33: X
A34: PALUMBO | B34: ARTE | X34: 3A | Y34: 3A
A35: MATRISCIANO | B35: ARTE | O35: 2A | AJ35: 2A
A36: SANTORO M. | B36: MUSICA | E36: 2E | G36: 1A | H36: 2E | Q36: 1A
A37: ROMA I. | Z37: P | AA37: P | AB37: P | AC37: P
A40: SOSTEGNO
A41: Avagliano C.
A42: Bruno M.
A43: Liguori S.
A44: Missano G.
A45: Russo N.

Sheet Sez. A
A1: 1A | B1: ora | H1: lunedì | I1: martedì | J1: mercoledì | K1: giovedì | L1: venerdì
B2: 1ª | C2: =MATCH(A1,foglio1!$C$1:$C$39,0) -> 14 | D2: =MATCH(A1,foglio1!$J$1:$J$39,0) -> 25 | E2: =MATCH(A1,foglio1!$Q$1:$Q$39,0) -> 36 | F2: =MATCH(A1,foglio1!$X$1:$X$39,0) -> 32 | G2: =MATCH(A1,foglio1!$AE$1:$AE$39,0) -> 14 | H2: =INDIRECT("Foglio1!$A$"&C2) -> DONATELLI F. | I2: =INDIRECT("Foglio1!$A$"&D2) -> SORRENTINO M. | J2: =INDIRECT("Foglio1!$A$"&E2) -> SANTORO M. | K2: =INDIRECT("Foglio1!$A$"&F2) -> ZITO R. | L2: =INDIRECT("Foglio1!$A$"&G2) -> DONATELLI F.
B3: 2ª | C3: =MATCH(A1,foglio1!$D$1:$D$39,0) -> 29 | D3: =MATCH(A1,foglio1!$K$1:$K$39,0) -> 25 | E3: =MATCH(A1,foglio1!$R$1:$R$39,0) -> 25 | F3: =MATCH(A1,foglio1!$Y$1:$Y$39,0) -> 21 | G3: =MATCH(A1,foglio1!$AF$1:$AF$39,0) -> 29 | H3: =INDIRECT("Foglio1!$A$"&C3) -> VELARDO C. | I3: =INDIRECT("Foglio1!$A$"&D3) -> SORRENTINO M. | J3: =INDIRECT("Foglio1!$A$"&E3) -> SORRENTINO M. | K3: =INDIRECT("Foglio1!$A$"&F3) -> PISAPIA A. | L3: =INDIRECT("Foglio1!$A$"&G3) -> VELARDO C.
B4: 3ª | C4: =MATCH(A1,foglio1!$E$1:$E$39,0) -> 32 | D4: =MATCH(A1,foglio1!$L$1:$L$39,0) -> 25 | E4: =MATCH(A1,foglio1!$S$1:$S$39,0) -> 31 | F4: =MATCH(A1,foglio1!$Z$1:$Z$39,0) -> 22 | G4: =MATCH(A1,foglio1!$AG$1:$AG$39,0) -> 7 | H4: =INDIRECT("Foglio1!$A$"&C4) -> ZITO R. | I4: =INDIRECT("Foglio1!$A$"&D4) -> SORRENTINO M. | J4: =INDIRECT("Foglio1!$A$"&E4) -> VITIELLO C. | K4: =INDIRECT("Foglio1!$A$"&F4) -> SANTORO M. | L4: =INDIRECT("Foglio1!$A$"&G4) -> BISOGNO A.
B5: 4ª | C5: =MATCH(A1,foglio1!$F$1:$F$39,0) -> 25 | D5: =MATCH(A1,foglio1!$M$1:$M$39,0) -> 33 | E5: =MATCH(A1,foglio1!$T$1:$T$39,0) -> 25 | F5: =MATCH(A1,foglio1!$AA$1:$AA$39,0) -> 32 | G5: =MATCH(A1,foglio1!$AH$1:$AH$39,0) -> 25 | H5: =INDIRECT("Foglio1!$A$"&C5) -> SORRENTINO M. | I5: =INDIRECT("Foglio1!$A$"&D5) -> PARLATO | J5: =INDIRECT("Foglio1!$A$"&E5) -> SORRENTINO M. | K5: =INDIRECT("Foglio1!$A$"&F5) -> ZITO R. | L5: =INDIRECT("Foglio1!$A$"&G5) -> SORRENTINO M.
B6: 5ª | C6: =MATCH(A1,foglio1!$G$1:$G$39,0) -> 36 | D6: =MATCH(A1,foglio1!$N$1:$N$39,0) -> 32 | E6: =MATCH(A1,foglio1!$U$1:$U$39,0) -> 21 | F6: =MATCH(A1,foglio1!$AB$1:$AB$39,0) -> 7 | G6: =MATCH(A1,foglio1!$AI$1:$AI$39,0) -> 25 | H6: =INDIRECT("Foglio1!$A$"&C6) -> SANTORO M. | I6: =INDIRECT("Foglio1!$A$"&D6) -> ZITO R. | J6: =INDIRECT("Foglio1!$A$"&E6) -> PISAPIA A. | K6: =INDIRECT("Foglio1!$A$"&F6) -> BISOGNO A. | L6: =INDIRECT("Foglio1!$A$"&G6) -> SORRENTINO M.
B7: 6ª | C7: =MATCH(A1,foglio1!$H$1:$H$39,0) -> 31 | D7: =MATCH(A1,foglio1!$O$1:$O$39,0) -> 32 | E7: =MATCH(A1,foglio1!$V$1:$V$39,0) -> 21 | F7: =MATCH(A1,foglio1!$AC$1:$AC$39,0) -> 33 | G7: =MATCH(A1,foglio1!$AJ$1:$AJ$39,0) -> 32 | H7: =INDIRECT("Foglio1!$A$"&C7) -> VITIELLO C. | I7: =INDIRECT("Foglio1!$A$"&D7) -> ZITO R. | J7: =INDIRECT("Foglio1!$A$"&E7) -> PISAPIA A. | K7: =INDIRECT("Foglio1!$A$"&F7) -> PARLATO | L7: =INDIRECT("Foglio1!$A$"&G7) -> ZITO R.
A9: 2A | B9: ora | H9: lunedì | I9: martedì | J9: mercoledì | K9: giovedì | L9: venerdì
B10: 1ª | C10: =MATCH(A9,foglio1!$C$1:$C$39,0) -> 32 | D10: =MATCH(A9,foglio1!$J$1:$J$39,0) -> 19 | E10: =MATCH(A9,foglio1!$Q$1:$Q$39,0) -> 31 | F10: =MATCH(A9,foglio1!$X$1:$X$39,0) -> 25 | G10: =MATCH(A9,foglio1!$AE$1:$AE$39,0) -> 25 | H10: =INDIRECT("Foglio1!$A$"&C10) -> ZITO R. | I10: =INDIRECT("Foglio1!$A$"&D10) -> PAGLIETTA G. | J10: =INDIRECT("Foglio1!$A$"&E10) -> VITIELLO C. | K10: =INDIRECT("Foglio1!$A$"&F10) -> SORRENTINO M. | L10: =INDIRECT("Foglio1!$A$"&G10) -> SORRENTINO M.
B11: 2ª | C11: =MATCH(A9,foglio1!$D$1:$D$39,0) -> 28 | D11: =MATCH(A9,foglio1!$K$1:$K$39,0) -> 28 | E11: =MATCH(A9,foglio1!$R$1:$R$39,0) -> 32 | F11: =MATCH(A9,foglio1!$Y$1:$Y$39,0) -> 25 | G11: =MATCH(A9,foglio1!$AF$1:$AF$39,0) -> 25 | H11: =INDIRECT("Foglio1!$A$"&C11) -> TRIVISONE V. | I11: =INDIRECT("Foglio1!$A$"&D11) -> TRIVISONE V. | J11: =INDIRECT("Foglio1!$A$"&E11) -> ZITO R. | K11: =INDIRECT("Foglio1!$A$"&F11) -> SORRENTINO M. | L11: =INDIRECT("Foglio1!$A$"&G11) -> SORRENTINO M.
B12: 3ª | C12: =MATCH(A9,foglio1!$E$1:$E$39,0) -> 31 | D12: =MATCH(A9,foglio1!$L$1:$L$39,0) -> 32 | E12: =MATCH(A9,foglio1!$S$1:$S$39,0) -> 32 | F12: =MATCH(A9,foglio1!$Z$1:$Z$39,0) -> 25 | G12: =MATCH(A9,foglio1!$AG$1:$AG$39,0) -> 32 | H12: =INDIRECT("Foglio1!$A$"&C12) -> VITIELLO C. | I12: =INDIRECT("Foglio1!$A$"&D12) -> ZITO R. | J12: =INDIRECT("Foglio1!$A$"&E12) -> ZITO R. | K12: =INDIRECT("Foglio1!$A$"&F12) -> SORRENTINO M. | L12: =INDIRECT("Foglio1!$A$"&G12) -> ZITO R.
B13: 4ª | C13: =MATCH(A9,foglio1!$F$1:$F$39,0) -> 7 | D13: =MATCH(A9,foglio1!$M$1:$M$39,0) -> 25 | E13: =MATCH(A9,foglio1!$T$1:$T$39,0) -> 8 | F13: =MATCH(A9,foglio1!$AA$1:$AA$39,0) -> 7 | G13: =MATCH(A9,foglio1!$AH$1:$AH$39,0) -> 32 | H13: =INDIRECT("Foglio1!$A$"&C13) -> BISOGNO A. | I13: =INDIRECT("Foglio1!$A$"&D13) -> SORRENTINO M. | J13: =INDIRECT("Foglio1!$A$"&E13) -> BRUNO A. | K13: =INDIRECT("Foglio1!$A$"&F13) -> BISOGNO A. | L13: =INDIRECT("Foglio1!$A$"&G13) -> ZITO R.
B14: 5ª | C14: =MATCH(A9,foglio1!$G$1:$G$39,0) -> 25 | D14: =MATCH(A9,foglio1!$N$1:$N$39,0) -> 28 | E14: =MATCH(A9,foglio1!$U$1:$U$39,0) -> 25 | F14: =MATCH(A9,foglio1!$AB$1:$AB$39,0) -> 19 | G14: =MATCH(A9,foglio1!$AI$1:$AI$39,0) -> 11 | H14: =INDIRECT("Foglio1!$A$"&C14) -> SORRENTINO M. | I14: =INDIRECT("Foglio1!$A$"&D14) -> TRIVISONE V. | J14: =INDIRECT("Foglio1!$A$"&E14) -> SORRENTINO M. | K14: =INDIRECT("Foglio1!$A$"&F14) -> PAGLIETTA G. | L14: =INDIRECT("Foglio1!$A$"&G14) -> CAPO G.
B15: 6ª | C15: =MATCH(A9,foglio1!$H$1:$H$39,0) -> 25 | D15: =MATCH(A9,foglio1!$O$1:$O$39,0) -> 35 | E15: =MATCH(A9,foglio1!$V$1:$V$39,0) -> 25 | F15: =MATCH(A9,foglio1!$AC$1:$AC$39,0) -> 8 | G15: =MATCH(A9,foglio1!$AJ$1:$AJ$39,0) -> 35 | H15: =INDIRECT("Foglio1!$A$"&C15) -> SORRENTINO M. | I15: =INDIRECT("Foglio1!$A$"&D15) -> MATRISCIANO | J15: =INDIRECT("Foglio1!$A$"&E15) -> SORRENTINO M. | K15: =INDIRECT("Foglio1!$A$"&F15) -> BRUNO A. | L15: =INDIRECT("Foglio1!$A$"&G15) -> MATRISCIANO
A17: 3A | B17: ora | H17: lunedì | I17: martedì | J17: mercoledì | K17: giovedì | L17: venerdì
B18: 1ª | C18: =MATCH(A17,foglio1!$C$1:$C$39,0) -> 24 | D18: =MATCH(A17,foglio1!$J$1:$J$39,0) -> 24 | E18: =MATCH(A17,foglio1!$Q$1:$Q$39,0) -> 32 | F18: =MATCH(A17,foglio1!$X$1:$X$39,0) -> 34 | G18: =MATCH(A17,foglio1!$AE$1:$AE$39,0) -> 32 | H18: =INDIRECT("Foglio1!$A$"&C18) -> SICA S. | I18: =INDIRECT("Foglio1!$A$"&D18) -> SICA S. | J18: =INDIRECT("Foglio1!$A$"&E18) -> ZITO R. | K18: =INDIRECT("Foglio1!$A$"&F18) -> PALUMBO | L18: =INDIRECT("Foglio1!$A$"&G18) -> ZITO R.
B19: 2ª | C19: =MATCH(A17,foglio1!$D$1:$D$39,0) -> 32 | D19: =MATCH(A17,foglio1!$K$1:$K$39,0) -> 24 | E19: =MATCH(A17,foglio1!$R$1:$R$39,0) -> 31 | F19: =MATCH(A17,foglio1!$Y$1:$Y$39,0) -> 34 | G19: =MATCH(A17,foglio1!$AF$1:$AF$39,0) -> 32 | H19: =INDIRECT("Foglio1!$A$"&C19) -> ZITO R. | I19: =INDIRECT("Foglio1!$A$"&D19) -> SICA S. | J19: =INDIRECT("Foglio1!$A$"&E19) -> VITIELLO C. | K19: =INDIRECT("Foglio1!$A$"&F19) -> PALUMBO | L19: =INDIRECT("Foglio1!$A$"&G19) -> ZITO R.
B20: 3ª | C20: =MATCH(A17,foglio1!$E$1:$E$39,0) -> 28 | D20: =MATCH(A17,foglio1!$L$1:$L$39,0) -> 24 | E20: =MATCH(A17,foglio1!$S$1:$S$39,0) -> 7 | F20: =MATCH(A17,foglio1!$Z$1:$Z$39,0) -> 32 | G20: =MATCH(A17,foglio1!$AG$1:$AG$39,0) -> 11 | H20: =INDIRECT("Foglio1!$A$"&C20) -> TRIVISONE V. | I20: =INDIRECT("Foglio1!$A$"&D20) -> SICA S. | J20: =INDIRECT("Foglio1!$A$"&E20) -> BISOGNO A. | K20: =INDIRECT("Foglio1!$A$"&F20) -> ZITO R. | L20: =INDIRECT("Foglio1!$A$"&G20) -> CAPO G.
B21: 4ª | C21: =MATCH(A17,foglio1!$F$1:$F$39,0) -> 31 | D21: =MATCH(A17,foglio1!$M$1:$M$39,0) -> 32 | E21: =MATCH(A17,foglio1!$T$1:$T$39,0) -> 28 | F21: =MATCH(A17,foglio1!$AA$1:$AA$39,0) -> 24 | G21: =MATCH(A17,foglio1!$AH$1:$AH$39,0) -> 28 | H21: =INDIRECT("Foglio1!$A$"&C21) -> VITIELLO C. | I21: =INDIRECT("Foglio1!$A$"&D21) -> ZITO R. | J21: =INDIRECT("Foglio1!$A$"&E21) -> TRIVISONE V. | K21: =INDIRECT("Foglio1!$A$"&F21) -> SICA S. | L21: =INDIRECT("Foglio1!$A$"&G21) -> TRIVISONE V.
B22: 5ª | C22: =MATCH(A17,foglio1!$G$1:$G$39,0) -> 14 | D22: =MATCH(A17,foglio1!$N$1:$N$39,0) -> 33 | E22: =MATCH(A17,foglio1!$U$1:$U$39,0) -> 8 | F22: =MATCH(A17,foglio1!$AB$1:$AB$39,0) -> 8 | G22: =MATCH(A17,foglio1!$AI$1:$AI$39,0) -> 24 | H22: =INDIRECT("Foglio1!$A$"&C22) -> DONATELLI F. | I22: =INDIRECT("Foglio1!$A$"&D22) -> PARLATO | J22: =INDIRECT("Foglio1!$A$"&E22) -> BRUNO A. | K22: =INDIRECT("Foglio1!$A$"&F22) -> BRUNO A. | L22: =INDIRECT("Foglio1!$A$"&G22) -> SICA S.
B23: 6ª | C23: =MATCH(A17,foglio1!$H$1:$H$39,0) -> 7 | D23: =MATCH(A17,foglio1!$O$1:$O$39,0) -> 33 | E23: =MATCH(A17,foglio1!$V$1:$V$39,0) -> 24 | F23: =MATCH(A17,foglio1!$AC$1:$AC$39,0) -> 24 | G23: =MATCH(A17,foglio1!$AJ$1:$AJ$39,0) -> 14 | H23: =INDIRECT("Foglio1!$A$"&C23) -> BISOGNO A. | I23: =INDIRECT("Foglio1!$A$"&D23) -> PARLATO | J23: =INDIRECT("Foglio1!$A$"&E23) -> SICA S. | K23: =INDIRECT("Foglio1!$A$"&F23) -> SICA S. | L23: =INDIRECT("Foglio1!$A$"&G23) -> DONATELLI F.

Sheet Sez. B
G1: ora | H1: lunedì | I1: martedì | J1: mercoledì | K1: giovedì | L1: venerdì
A2: 1B | B2: =MATCH(A2,foglio1!$C$1:$C$39,0) -> 30 | C2: =MATCH(A2,foglio1!$J$1:$J$39,0) -> 15 | D2: =MATCH(A2,foglio1!$Q$1:$Q$39,0) -> 15 | E2: =MATCH(A2,foglio1!$X$1:$X$39,0) -> 30 | F2: =MATCH(A2,foglio1!$AE$1:$AE$39,0) -> 11 | G2: 1ª | H2: =INDIRECT("Foglio1!$A$"&B2) -> VIOLANTE G. | I2: =INDIRECT("Foglio1!$A$"&C2) -> DI DOMENICO S. | J2: =INDIRECT("Foglio1!$A$"&D2) -> DI DOMENICO S. | K2: =INDIRECT("Foglio1!$A$"&E2) -> VIOLANTE G. | L2: =INDIRECT("Foglio1!$A$"&F2) -> CAPO G.
B3: =MATCH(A2,foglio1!$D$1:$D$39,0) -> 5 | C3: =MATCH(A2,foglio1!$K$1:$K$39,0) -> 15 | D3: =MATCH(A2,foglio1!$R$1:$R$39,0) -> 15 | E3: =MATCH(A2,foglio1!$Y$1:$Y$39,0) -> 16 | F3: =MATCH(A2,foglio1!$AF$1:$AF$39,0) -> 5 | G3: 2ª | H3: =INDIRECT("Foglio1!$A$"&B3) -> AMENDOLA S. | I3: =INDIRECT("Foglio1!$A$"&C3) -> DI DOMENICO S. | J3: =INDIRECT("Foglio1!$A$"&D3) -> DI DOMENICO S. | K3: =INDIRECT("Foglio1!$A$"&E3) -> DI MARINO R. | L3: =INDIRECT("Foglio1!$A$"&F3) -> AMENDOLA S.
B4: =MATCH(A2,foglio1!$E$1:$E$39,0) -> 5 | C4: =MATCH(A2,foglio1!$L$1:$L$39,0) -> 15 | D4: =MATCH(A2,foglio1!$S$1:$S$39,0) -> 10 | E4: =MATCH(A2,foglio1!$Z$1:$Z$39,0) -> 19 | F4: =MATCH(A2,foglio1!$AG$1:$AG$39,0) -> 26 | G4: 3ª | H4: =INDIRECT("Foglio1!$A$"&B4) -> AMENDOLA S. | I4: =INDIRECT("Foglio1!$A$"&C4) -> DI DOMENICO S. | J4: =INDIRECT("Foglio1!$A$"&D4) -> CALIFANO S. | K4: =INDIRECT("Foglio1!$A$"&E4) -> PAGLIETTA G. | L4: =INDIRECT("Foglio1!$A$"&F4) -> SPASIANO J.
B5: =MATCH(A2,foglio1!$F$1:$F$39,0) -> 15 | C5: =MATCH(A2,foglio1!$M$1:$M$39,0) -> 9 | D5: =MATCH(A2,foglio1!$T$1:$T$39,0) -> 9 | E5: =MATCH(A2,foglio1!$AA$1:$AA$39,0) -> 15 | F5: =MATCH(A2,foglio1!$AH$1:$AH$39,0) -> 10 | G5: 4ª | H5: =INDIRECT("Foglio1!$A$"&B5) -> DI DOMENICO S. | I5: =INDIRECT("Foglio1!$A$"&C5) -> CACCIATORE F. | J5: =INDIRECT("Foglio1!$A$"&D5) -> CACCIATORE F. | K5: =INDIRECT("Foglio1!$A$"&E5) -> DI DOMENICO S. | L5: =INDIRECT("Foglio1!$A$"&F5) -> CALIFANO S.
B6: =MATCH(A2,foglio1!$G$1:$G$39,0) -> 15 | C6: =MATCH(A2,foglio1!$N$1:$N$39,0) -> 18 | D6: =MATCH(A2,foglio1!$U$1:$U$39,0) -> 16 | E6: =MATCH(A2,foglio1!$AB$1:$AB$39,0) -> 26 | F6: =MATCH(A2,foglio1!$AI$1:$AI$39,0) -> 15 | G6: 5ª | H6: =INDIRECT("Foglio1!$A$"&B6) -> DI DOMENICO S. | I6: =INDIRECT("Foglio1!$A$"&C6) -> LA RAGIONE I. | J6: =INDIRECT("Foglio1!$A$"&D6) -> DI MARINO R. | K6: =INDIRECT("Foglio1!$A$"&E6) -> SPASIANO J. | L6: =INDIRECT("Foglio1!$A$"&F6) -> DI DOMENICO S.
B7: =MATCH(A2,foglio1!$H$1:$H$39,0) -> 18 | C7: =MATCH(A2,foglio1!$O$1:$O$39,0) -> 5 | D7: =MATCH(A2,foglio1!$V$1:$V$39,0) -> 30 | E7: =MATCH(A2,foglio1!$AC$1:$AC$39,0) -> 19 | F7: =MATCH(A2,foglio1!$AJ$1:$AJ$39,0) -> 15 | G7: 6ª | H7: =INDIRECT("Foglio1!$A$"&B7) -> LA RAGIONE I. | I7: =INDIRECT("Foglio1!$A$"&C7) -> AMENDOLA S. | J7: =INDIRECT("Foglio1!$A$"&D7) -> VIOLANTE G. | K7: =INDIRECT("Foglio1!$A$"&E7) -> PAGLIETTA G. | L7: =INDIRECT("Foglio1!$A$"&F7) -> DI DOMENICO S.
G9: ora | H9: lunedì | I9: martedì | J9: mercoledì | K9: giovedì | L9: venerdì
A10: 2B | B10: =MATCH(A10,foglio1!$C$1:$C$39,0) -> 17 | C10: =MATCH(A10,foglio1!$J$1:$J$39,0) -> 5 | D10: =MATCH(A10,foglio1!$Q$1:$Q$39,0) -> 18 | E10: =MATCH(A10,foglio1!$X$1:$X$39,0) -> 15 | F10: =MATCH(A10,foglio1!$AE$1:$AE$39,0) -> 10 | G10: 1ª | H10: =INDIRECT("Foglio1!$A$"&B10) -> FARINA S. | I10: =INDIRECT("Foglio1!$A$"&C10) -> AMENDOLA S. | J10: =INDIRECT("Foglio1!$A$"&D10) -> LA RAGIONE I. | K10: =INDIRECT("Foglio1!$A$"&E10) -> DI DOMENICO S. | L10: =INDIRECT("Foglio1!$A$"&F10) -> CALIFANO S.
B11: =MATCH(A10,foglio1!$D$1:$D$39,0) -> 17 | C11: =MATCH(A10,foglio1!$K$1:$K$39,0) -> 5 | D11: =MATCH(A10,foglio1!$R$1:$R$39,0) -> 17 | E11: =MATCH(A10,foglio1!$Y$1:$Y$39,0) -> 30 | F11: =MATCH(A10,foglio1!$AF$1:$AF$39,0) -> 30 | G11: 2ª | H11: =INDIRECT("Foglio1!$A$"&B11) -> FARINA S. | I11: =INDIRECT("Foglio1!$A$"&C11) -> AMENDOLA S. | J11: =INDIRECT("Foglio1!$A$"&D11) -> FARINA S. | K11: =INDIRECT("Foglio1!$A$"&E11) -> VIOLANTE G. | L11: =INDIRECT("Foglio1!$A$"&F11) -> VIOLANTE G.
B12: =MATCH(A10,foglio1!$E$1:$E$39,0) -> 26 | C12: =MATCH(A10,foglio1!$L$1:$L$39,0) -> 9 | D12: =MATCH(A10,foglio1!$S$1:$S$39,0) -> 19 | E12: =MATCH(A10,foglio1!$Z$1:$Z$39,0) -> 17 | F12: =MATCH(A10,foglio1!$AG$1:$AG$39,0) -> 5 | G12: 3ª | H12: =INDIRECT("Foglio1!$A$"&B12) -> SPASIANO J. | I12: =INDIRECT("Foglio1!$A$"&C12) -> CACCIATORE F. | J12: =INDIRECT("Foglio1!$A$"&D12) -> PAGLIETTA G. | K12: =INDIRECT("Foglio1!$A$"&E12) -> FARINA S. | L12: =INDIRECT("Foglio1!$A$"&F12) -> AMENDOLA S.
B13: =MATCH(A10,foglio1!$F$1:$F$39,0) -> 9 | C13: =MATCH(A10,foglio1!$M$1:$M$39,0) -> 30 | D13: =MATCH(A10,foglio1!$T$1:$T$39,0) -> 17 | E13: =MATCH(A10,foglio1!$AA$1:$AA$39,0) -> 26 | F13: =MATCH(A10,foglio1!$AH$1:$AH$39,0) -> 11 | G13: 4ª | H13: =INDIRECT("Foglio1!$A$"&B13) -> CACCIATORE F. | I13: =INDIRECT("Foglio1!$A$"&C13) -> VIOLANTE G. | J13: =INDIRECT("Foglio1!$A$"&D13) -> FARINA S. | K13: =INDIRECT("Foglio1!$A$"&E13) -> SPASIANO J. | L13: =INDIRECT("Foglio1!$A$"&F13) -> CAPO G.
B14: =MATCH(A10,foglio1!$G$1:$G$39,0) -> 10 | C14: =MATCH(A10,foglio1!$N$1:$N$39,0) -> 16 | D14: =MATCH(A10,foglio1!$U$1:$U$39,0) -> 5 | E14: =MATCH(A10,foglio1!$AB$1:$AB$39,0) -> 17 | F14: =MATCH(A10,foglio1!$AI$1:$AI$39,0) -> 16 | G14: 5ª | H14: =INDIRECT("Foglio1!$A$"&B14) -> CALIFANO S. | I14: =INDIRECT("Foglio1!$A$"&C14) -> DI MARINO R. | J14: =INDIRECT("Foglio1!$A$"&D14) -> AMENDOLA S. | K14: =INDIRECT("Foglio1!$A$"&E14) -> FARINA S. | L14: =INDIRECT("Foglio1!$A$"&F14) -> DI MARINO R.
B15: =MATCH(A10,foglio1!$H$1:$H$39,0) -> 15 | C15: =MATCH(A10,foglio1!$O$1:$O$39,0) -> 19 | D15: =MATCH(A10,foglio1!$V$1:$V$39,0) -> 18 | E15: =MATCH(A10,foglio1!$AC$1:$AC$39,0) -> 17 | F15: =MATCH(A10,foglio1!$AJ$1:$AJ$39,0) -> 17 | G15: 6ª | H15: =INDIRECT("Foglio1!$A$"&B15) -> DI DOMENICO S. | I15: =INDIRECT("Foglio1!$A$"&C15) -> PAGLIETTA G. | J15: =INDIRECT("Foglio1!$A$"&D15) -> LA RAGIONE I. | K15: =INDIRECT("Foglio1!$A$"&E15) -> FARINA S. | L15: =INDIRECT("Foglio1!$A$"&F15) -> FARINA S.
G17: ora | H17: lunedì | I17: martedì | J17: mercoledì | K17: giovedì | L17: venerdì
A18: 3B | B18: =MATCH(A18,foglio1!$C$1:$C$39,0) -> 5 | C18: =MATCH(A18,foglio1!$J$1:$J$39,0) -> 17 | D18: =MATCH(A18,foglio1!$Q$1:$Q$39,0) -> 17 | E18: =MATCH(A18,foglio1!$X$1:$X$39,0) -> 19 | F18: =MATCH(A18,foglio1!$AE$1:$AE$39,0) -> 30 | G18: 1ª | H18: =INDIRECT("Foglio1!$A$"&B18) -> AMENDOLA S. | I18: =INDIRECT("Foglio1!$A$"&C18) -> FARINA S. | J18: =INDIRECT("Foglio1!$A$"&D18) -> FARINA S. | K18: =INDIRECT("Foglio1!$A$"&E18) -> PAGLIETTA G. | L18: =INDIRECT("Foglio1!$A$"&F18) -> VIOLANTE G.
B19: =MATCH(A18,foglio1!$D$1:$D$39,0) -> 31 | C19: =MATCH(A18,foglio1!$K$1:$K$39,0) -> 17 | D19: =MATCH(A18,foglio1!$R$1:$R$39,0) -> 16 | E19: =MATCH(A18,foglio1!$Y$1:$Y$39,0) -> 11 | F19: =MATCH(A18,foglio1!$AF$1:$AF$39,0) -> 10 | G19: 2ª | H19: =INDIRECT("Foglio1!$A$"&B19) -> VITIELLO C. | I19: =INDIRECT("Foglio1!$A$"&C19) -> FARINA S. | J19: =INDIRECT("Foglio1!$A$"&D19) -> DI MARINO R. | K19: =INDIRECT("Foglio1!$A$"&E19) -> CAPO G. | L19: =INDIRECT("Foglio1!$A$"&F19) -> CALIFANO S.
B20: =MATCH(A18,foglio1!$E$1:$E$39,0) -> 9 | C20: =MATCH(A18,foglio1!$L$1:$L$39,0) -> 17 | D20: =MATCH(A18,foglio1!$S$1:$S$39,0) -> 18 | E20: =MATCH(A18,foglio1!$Z$1:$Z$39,0) -> 30 | F20: =MATCH(A18,foglio1!$AG$1:$AG$39,0) -> 17 | G20: 3ª | H20: =INDIRECT("Foglio1!$A$"&B20) -> CACCIATORE F. | I20: =INDIRECT("Foglio1!$A$"&C20) -> FARINA S. | J20: =INDIRECT("Foglio1!$A$"&D20) -> LA RAGIONE I. | K20: =INDIRECT("Foglio1!$A$"&E20) -> VIOLANTE G. | L20: =INDIRECT("Foglio1!$A$"&F20) -> FARINA S.
B21: =MATCH(A18,foglio1!$F$1:$F$39,0) -> 17 | C21: =MATCH(A18,foglio1!$M$1:$M$39,0) -> 10 | D21: =MATCH(A18,foglio1!$T$1:$T$39,0) -> 31 | E21: =MATCH(A18,foglio1!$AA$1:$AA$39,0) -> 30 | F21: =MATCH(A18,foglio1!$AH$1:$AH$39,0) -> 17 | G21: 4ª | H21: =INDIRECT("Foglio1!$A$"&B21) -> FARINA S. | I21: =INDIRECT("Foglio1!$A$"&C21) -> CALIFANO S. | J21: =INDIRECT("Foglio1!$A$"&D21) -> VITIELLO C. | K21: =INDIRECT("Foglio1!$A$"&E21) -> VIOLANTE G. | L21: =INDIRECT("Foglio1!$A$"&F21) -> FARINA S.
B22: =MATCH(A18,foglio1!$G$1:$G$39,0) -> 17 | C22: =MATCH(A18,foglio1!$N$1:$N$39,0) -> 19 | D22: =MATCH(A18,foglio1!$U$1:$U$39,0) -> 17 | E22: =MATCH(A18,foglio1!$AB$1:$AB$39,0) -> 5 | F22: =MATCH(A18,foglio1!$AI$1:$AI$39,0) -> 17 | G22: 5ª | H22: =INDIRECT("Foglio1!$A$"&B22) -> FARINA S. | I22: =INDIRECT("Foglio1!$A$"&C22) -> PAGLIETTA G. | J22: =INDIRECT("Foglio1!$A$"&D22) -> FARINA S. | K22: =INDIRECT("Foglio1!$A$"&E22) -> AMENDOLA S. | L22: =INDIRECT("Foglio1!$A$"&F22) -> FARINA S.
B23: =MATCH(A18,foglio1!$H$1:$H$39,0) -> 16 | C23: =MATCH(A18,foglio1!$O$1:$O$39,0) -> 18 | D23: =MATCH(A18,foglio1!$V$1:$V$39,0) -> 5 | E23: =MATCH(A18,foglio1!$AC$1:$AC$39,0) -> 5 | F23: =MATCH(A18,foglio1!$AJ$1:$AJ$39,0) -> 9 | G23: 6ª | H23: =INDIRECT("Foglio1!$A$"&B23) -> DI MARINO R. | I23: =INDIRECT("Foglio1!$A$"&C23) -> LA RAGIONE I. | J23: =INDIRECT("Foglio1!$A$"&D23) -> AMENDOLA S. | K23: =INDIRECT("Foglio1!$A$"&E23) -> AMENDOLA S. | L23: =INDIRECT("Foglio1!$A$"&F23) -> CACCIATORE F.

Sheet Sez. C
G1: ora | H1: lunedì | I1: martedì | J1: mercoledì | K1: giovedì | L1: venerdì
A2: 1C | B2: =MATCH(A2,foglio1!$C$1:$C$39,0) -> 6 | C2: =MATCH(A2,foglio1!$J$1:$J$39,0) -> 9 | D2: =MATCH(A2,foglio1!$Q$1:$Q$39,0) -> 13 | E2: =MATCH(A2,foglio1!$X$1:$X$39,0) -> 12 | F2: =MATCH(A2,foglio1!$AE$1:$AE$39,0) -> 13 | G2: 1ª | H2: =INDIRECT("Foglio1!$A$"&B2) -> BALDI G. | I2: =INDIRECT("Foglio1!$A$"&C2) -> CACCIATORE F. | J2: =INDIRECT("Foglio1!$A$"&D2) -> DE SANTIS A. | K2: =INDIRECT("Foglio1!$A$"&E2) -> CUOMO C. | L2: =INDIRECT("Foglio1!$A$"&F2) -> DE SANTIS A.
B3: =MATCH(A2,foglio1!$D$1:$D$39,0) -> 26 | C3: =MATCH(A2,foglio1!$K$1:$K$39,0) -> 13 | D3: =MATCH(A2,foglio1!$R$1:$R$39,0) -> 13 | E3: =MATCH(A2,foglio1!$Y$1:$Y$39,0) -> 12 | F3: =MATCH(A2,foglio1!$AF$1:$AF$39,0) -> 33 | G3: 2ª | H3: =INDIRECT("Foglio1!$A$"&B3) -> SPASIANO J. | I3: =INDIRECT("Foglio1!$A$"&C3) -> DE SANTIS A. | J3: =INDIRECT("Foglio1!$A$"&D3) -> DE SANTIS A. | K3: =INDIRECT("Foglio1!$A$"&E3) -> CUOMO C. | L3: =INDIRECT("Foglio1!$A$"&F3) -> PARLATO
B4: =MATCH(A2,foglio1!$E$1:$E$39,0) -> 13 | C4: =MATCH(A2,foglio1!$L$1:$L$39,0) -> 13 | D4: =MATCH(A2,foglio1!$S$1:$S$39,0) -> 26 | E4: =MATCH(A2,foglio1!$Z$1:$Z$39,0) -> 10 | F4: =MATCH(A2,foglio1!$AG$1:$AG$39,0) -> 13 | G4: 3ª | H4: =INDIRECT("Foglio1!$A$"&B4) -> DE SANTIS A. | I4: =INDIRECT("Foglio1!$A$"&C4) -> DE SANTIS A. | J4: =INDIRECT("Foglio1!$A$"&D4) -> SPASIANO J. | K4: =INDIRECT("Foglio1!$A$"&E4) -> CALIFANO S. | L4: =INDIRECT("Foglio1!$A$"&F4) -> DE SANTIS A.
B5: =MATCH(A2,foglio1!$F$1:$F$39,0) -> 16 | C5: =MATCH(A2,foglio1!$M$1:$M$39,0) -> 6 | D5: =MATCH(A2,foglio1!$T$1:$T$39,0) -> 30 | E5: =MATCH(A2,foglio1!$AA$1:$AA$39,0) -> 13 | F5: =MATCH(A2,foglio1!$AH$1:$AH$39,0) -> 16 | G5: 4ª | H5: =INDIRECT("Foglio1!$A$"&B5) -> DI MARINO R. | I5: =INDIRECT("Foglio1!$A$"&C5) -> BALDI G. | J5: =INDIRECT("Foglio1!$A$"&D5) -> VIOLANTE G. | K5: =INDIRECT("Foglio1!$A$"&E5) -> DE SANTIS A. | L5: =INDIRECT("Foglio1!$A$"&F5) -> DI MARINO R.
B6: =MATCH(A2,foglio1!$G$1:$G$39,0) -> 30 | C6: =MATCH(A2,foglio1!$N$1:$N$39,0) -> 10 | D6: =MATCH(A2,foglio1!$U$1:$U$39,0) -> 12 | E6: =MATCH(A2,foglio1!$AB$1:$AB$39,0) -> 33 | F6: =MATCH(A2,foglio1!$AI$1:$AI$39,0) -> 14 | G6: 5ª | H6: =INDIRECT("Foglio1!$A$"&B6) -> VIOLANTE G. | I6: =INDIRECT("Foglio1!$A$"&C6) -> CALIFANO S. | J6: =INDIRECT("Foglio1!$A$"&D6) -> CUOMO C. | K6: =INDIRECT("Foglio1!$A$"&E6) -> PARLATO | L6: =INDIRECT("Foglio1!$A$"&F6) -> DONATELLI F.
B7: =MATCH(A2,foglio1!$H$1:$H$39,0) -> 14 | C7: =MATCH(A2,foglio1!$O$1:$O$39,0) -> 12 | D7: =MATCH(A2,foglio1!$V$1:$V$39,0) -> 9 | E7: =MATCH(A2,foglio1!$AC$1:$AC$39,0) -> 30 | F7: =MATCH(A2,foglio1!$AJ$1:$AJ$39,0) -> 11 | G7: 6ª | H7: =INDIRECT("Foglio1!$A$"&B7) -> DONATELLI F. | I7: =INDIRECT("Foglio1!$A$"&C7) -> CUOMO C. | J7: =INDIRECT("Foglio1!$A$"&D7) -> CACCIATORE F. | K7: =INDIRECT("Foglio1!$A$"&E7) -> VIOLANTE G. | L7: =INDIRECT("Foglio1!$A$"&F7) -> CAPO G.
G9: ora | H9: lunedì | I9: martedì | J9: mercoledì | K9: giovedì | L9: venerdì
A10: 2C | B10: =MATCH(A10,foglio1!$C$1:$C$39,0) -> 26 | C10: =MATCH(A10,foglio1!$J$1:$J$39,0) -> 30 | D10: =MATCH(A10,foglio1!$Q$1:$Q$39,0) -> 19 | E10: =MATCH(A10,foglio1!$X$1:$X$39,0) -> 11 | F10: =MATCH(A10,foglio1!$AE$1:$AE$39,0) -> 12 | G10: 1ª | H10: =INDIRECT("Foglio1!$A$"&B10) -> SPASIANO J. | I10: =INDIRECT("Foglio1!$A$"&C10) -> VIOLANTE G. | J10: =INDIRECT("Foglio1!$A$"&D10) -> PAGLIETTA G. | K10: =INDIRECT("Foglio1!$A$"&E10) -> CAPO G. | L10: =INDIRECT("Foglio1!$A$"&F10) -> CUOMO C.
B11: =MATCH(A10,foglio1!$D$1:$D$39,0) -> 24 | C11: =MATCH(A10,foglio1!$K$1:$K$39,0) -> 30 | D11: =MATCH(A10,foglio1!$R$1:$R$39,0) -> 26 | E11: =MATCH(A10,foglio1!$Y$1:$Y$39,0) -> 24 | F11: =MATCH(A10,foglio1!$AF$1:$AF$39,0) -> 12 | G11: 2ª | H11: =INDIRECT("Foglio1!$A$"&B11) -> SICA S. | I11: =INDIRECT("Foglio1!$A$"&C11) -> VIOLANTE G. | J11: =INDIRECT("Foglio1!$A$"&D11) -> SPASIANO J. | K11: =INDIRECT("Foglio1!$A$"&E11) -> SICA S. | L11: =INDIRECT("Foglio1!$A$"&F11) -> CUOMO C.
B12: =MATCH(A10,foglio1!$E$1:$E$39,0) -> 24 | C12: =MATCH(A10,foglio1!$L$1:$L$39,0) -> 6 | D12: =MATCH(A10,foglio1!$S$1:$S$39,0) -> 24 | E12: =MATCH(A10,foglio1!$Z$1:$Z$39,0) -> 12 | F12: =MATCH(A10,foglio1!$AG$1:$AG$39,0) -> 16 | G12: 3ª | H12: =INDIRECT("Foglio1!$A$"&B12) -> SICA S. | I12: =INDIRECT("Foglio1!$A$"&C12) -> BALDI G. | J12: =INDIRECT("Foglio1!$A$"&D12) -> SICA S. | K12: =INDIRECT("Foglio1!$A$"&E12) -> CUOMO C. | L12: =INDIRECT("Foglio1!$A$"&F12) -> DI MARINO R.
B13: =MATCH(A10,foglio1!$F$1:$F$39,0) -> 30 | C13: =MATCH(A10,foglio1!$M$1:$M$39,0) -> 24 | D13: =MATCH(A10,foglio1!$T$1:$T$39,0) -> 24 | E13: =MATCH(A10,foglio1!$AA$1:$AA$39,0) -> 10 | F13: =MATCH(A10,foglio1!$AH$1:$AH$39,0) -> 24 | G13: 4ª | H13: =INDIRECT("Foglio1!$A$"&B13) -> VIOLANTE G. | I13: =INDIRECT("Foglio1!$A$"&C13) -> SICA S. | J13: =INDIRECT("Foglio1!$A$"&D13) -> SICA S. | K13: =INDIRECT("Foglio1!$A$"&E13) -> CALIFANO S. | L13: =INDIRECT("Foglio1!$A$"&F13) -> SICA S.
B14: =MATCH(A10,foglio1!$G$1:$G$39,0) -> 19 | C14: =MATCH(A10,foglio1!$N$1:$N$39,0) -> 12 | D14: =MATCH(A10,foglio1!$U$1:$U$39,0) -> 24 | E14: =MATCH(A10,foglio1!$AB$1:$AB$39,0) -> 24 | F14: =MATCH(A10,foglio1!$AI$1:$AI$39,0) -> 9 | G14: 5ª | H14: =INDIRECT("Foglio1!$A$"&B14) -> PAGLIETTA G. | I14: =INDIRECT("Foglio1!$A$"&C14) -> CUOMO C. | J14: =INDIRECT("Foglio1!$A$"&D14) -> SICA S. | K14: =INDIRECT("Foglio1!$A$"&E14) -> SICA S. | L14: =INDIRECT("Foglio1!$A$"&F14) -> CACCIATORE F.
B15: =MATCH(A10,foglio1!$H$1:$H$39,0) -> 9 | C15: =MATCH(A10,foglio1!$O$1:$O$39,0) -> 10 | D15: =MATCH(A10,foglio1!$V$1:$V$39,0) -> 16 | E15: =MATCH(A10,foglio1!$AC$1:$AC$39,0) -> 6 | F15: =MATCH(A10,foglio1!$AJ$1:$AJ$39,0) -> 24 | G15: 6ª | H15: =INDIRECT("Foglio1!$A$"&B15) -> CACCIATORE F. | I15: =INDIRECT("Foglio1!$A$"&C15) -> CALIFANO S. | J15: =INDIRECT("Foglio1!$A$"&D15) -> DI MARINO R. | K15: =INDIRECT("Foglio1!$A$"&E15) -> BALDI G. | L15: =INDIRECT("Foglio1!$A$"&F15) -> SICA S.
G17: ora | H17: lunedì | I17: martedì | J17: mercoledì | K17: giovedì | L17: venerdì
A18: 3C | B18: =MATCH(A18,foglio1!$C$1:$C$39,0) -> 13 | C18: =MATCH(A18,foglio1!$J$1:$J$39,0) -> 6 | D18: =MATCH(A18,foglio1!$Q$1:$Q$39,0) -> 12 | E18: =MATCH(A18,foglio1!$X$1:$X$39,0) -> 9 | F18: =MATCH(A18,foglio1!$AE$1:$AE$39,0) -> 33 | G18: 1ª | H18: =INDIRECT("Foglio1!$A$"&B18) -> DE SANTIS A. | I18: =INDIRECT("Foglio1!$A$"&C18) -> BALDI G. | J18: =INDIRECT("Foglio1!$A$"&D18) -> CUOMO C. | K18: =INDIRECT("Foglio1!$A$"&E18) -> CACCIATORE F. | L18: =INDIRECT("Foglio1!$A$"&F18) -> PARLATO
B19: =MATCH(A18,foglio1!$D$1:$D$39,0) -> 13 | C19: =MATCH(A18,foglio1!$K$1:$K$39,0) -> 10 | D19: =MATCH(A18,foglio1!$R$1:$R$39,0) -> 12 | E19: =MATCH(A18,foglio1!$Y$1:$Y$39,0) -> 10 | F19: =MATCH(A18,foglio1!$AF$1:$AF$39,0) -> 13 | G19: 2ª | H19: =INDIRECT("Foglio1!$A$"&B19) -> DE SANTIS A. | I19: =INDIRECT("Foglio1!$A$"&C19) -> CALIFANO S. | J19: =INDIRECT("Foglio1!$A$"&D19) -> CUOMO C. | K19: =INDIRECT("Foglio1!$A$"&E19) -> CALIFANO S. | L19: =INDIRECT("Foglio1!$A$"&F19) -> DE SANTIS A.
B20: =MATCH(A18,foglio1!$E$1:$E$39,0) -> 30 | C20: =MATCH(A18,foglio1!$L$1:$L$39,0) -> 30 | D20: =MATCH(A18,foglio1!$S$1:$S$39,0) -> 13 | E20: =MATCH(A18,foglio1!$Z$1:$Z$39,0) -> 11 | F20: =MATCH(A18,foglio1!$AG$1:$AG$39,0) -> 12 | G20: 3ª | H20: =INDIRECT("Foglio1!$A$"&B20) -> VIOLANTE G. | I20: =INDIRECT("Foglio1!$A$"&C20) -> VIOLANTE G. | J20: =INDIRECT("Foglio1!$A$"&D20) -> DE SANTIS A. | K20: =INDIRECT("Foglio1!$A$"&E20) -> CAPO G. | L20: =INDIRECT("Foglio1!$A$"&F20) -> CUOMO C.
B21: =MATCH(A18,foglio1!$F$1:$F$39,0) -> 13 | C21: =MATCH(A18,foglio1!$M$1:$M$39,0) -> 16 | D21: =MATCH(A18,foglio1!$T$1:$T$39,0) -> 13 | E21: =MATCH(A18,foglio1!$AA$1:$AA$39,0) -> 33 | F21: =MATCH(A18,foglio1!$AH$1:$AH$39,0) -> 9 | G21: 4ª | H21: =INDIRECT("Foglio1!$A$"&B21) -> DE SANTIS A. | I21: =INDIRECT("Foglio1!$A$"&C21) -> DI MARINO R. | J21: =INDIRECT("Foglio1!$A$"&D21) -> DE SANTIS A. | K21: =INDIRECT("Foglio1!$A$"&E21) -> PARLATO | L21: =INDIRECT("Foglio1!$A$"&F21) -> CACCIATORE F.
B22: =MATCH(A18,foglio1!$G$1:$G$39,0) -> 6 | C22: =MATCH(A18,foglio1!$N$1:$N$39,0) -> 13 | D22: =MATCH(A18,foglio1!$U$1:$U$39,0) -> 30 | E22: =MATCH(A18,foglio1!$AB$1:$AB$39,0) -> 13 | F22: =MATCH(A18,foglio1!$AI$1:$AI$39,0) -> 26 | G22: 5ª | H22: =INDIRECT("Foglio1!$A$"&B22) -> BALDI G. | I22: =INDIRECT("Foglio1!$A$"&C22) -> DE SANTIS A. | J22: =INDIRECT("Foglio1!$A$"&D22) -> VIOLANTE G. | K22: =INDIRECT("Foglio1!$A$"&E22) -> DE SANTIS A. | L22: =INDIRECT("Foglio1!$A$"&F22) -> SPASIANO J.
B23: =MATCH(A18,foglio1!$H$1:$H$39,0) -> 12 | C23: =MATCH(A18,foglio1!$O$1:$O$39,0) -> 13 | D23: =MATCH(A18,foglio1!$V$1:$V$39,0) -> 26 | E23: =MATCH(A18,foglio1!$AC$1:$AC$39,0) -> 13 | F23: =MATCH(A18,foglio1!$AJ$1:$AJ$39,0) -> 16 | G23: 6ª | H23: =INDIRECT("Foglio1!$A$"&B23) -> CUOMO C. | I23: =INDIRECT("Foglio1!$A$"&C23) -> DE SANTIS A. | J23: =INDIRECT("Foglio1!$A$"&D23) -> SPASIANO J. | K23: =INDIRECT("Foglio1!$A$"&E23) -> DE SANTIS A. | L23: =INDIRECT("Foglio1!$A$"&F23) -> DI MARINO R.

Sheet Sez. E
G1: ora | H1: lunedì | I1: martedì | J1: mercoledì | K1: giovedì | L1: venerdì
A2: 1E | B2: =MATCH(A2,foglio1!$C$1:$C$39,0) -> #N/A | C2: =MATCH(A2,foglio1!$J$1:$J$39,0) -> #N/A | D2: =MATCH(A2,foglio1!$Q$1:$Q$39,0) -> #N/A | E2: =MATCH(A2,foglio1!$X$1:$X$39,0) -> #N/A | F2: =MATCH(A2,foglio1!$AE$1:$AE$39,0) -> #N/A | G2: 1ª | H2: =INDIRECT("Foglio1!$A$"&B2) -> #N/A | I2: =INDIRECT("Foglio1!$A$"&C2) -> #N/A | J2: =INDIRECT("Foglio1!$A$"&D2) -> #N/A | K2: =INDIRECT("Foglio1!$A$"&E2) -> #N/A | L2: =INDIRECT("Foglio1!$A$"&F2) -> #N/A
B3: =MATCH(A2,foglio1!$D$1:$D$39,0) -> #N/A | C3: =MATCH(A2,foglio1!$K$1:$K$39,0) -> #N/A | D3: =MATCH(A2,foglio1!$R$1:$R$39,0) -> #N/A | E3: =MATCH(A2,foglio1!$Y$1:$Y$39,0) -> #N/A | F3: =MATCH(A2,foglio1!$AF$1:$AF$39,0) -> #N/A | G3: 2ª | H3: =INDIRECT("Foglio1!$A$"&B3) -> #N/A | I3: =INDIRECT("Foglio1!$A$"&C3) -> #N/A | J3: =INDIRECT("Foglio1!$A$"&D3) -> #N/A | K3: =INDIRECT("Foglio1!$A$"&E3) -> #N/A | L3: =INDIRECT("Foglio1!$A$"&F3) -> #N/A
B4: =MATCH(A2,foglio1!$E$1:$E$39,0) -> #N/A | C4: =MATCH(A2,foglio1!$L$1:$L$39,0) -> #N/A | D4: =MATCH(A2,foglio1!$S$1:$S$39,0) -> #N/A | E4: =MATCH(A2,foglio1!$Z$1:$Z$39,0) -> #N/A | F4: =MATCH(A2,foglio1!$AG$1:$AG$39,0) -> #N/A | G4: 3ª | H4: =INDIRECT("Foglio1!$A$"&B4) -> #N/A | I4: =INDIRECT("Foglio1!$A$"&C4) -> #N/A | J4: =INDIRECT("Foglio1!$A$"&D4) -> #N/A | K4: =INDIRECT("Foglio1!$A$"&E4) -> #N/A | L4: =INDIRECT("Foglio1!$A$"&F4) -> #N/A
B5: =MATCH(A2,foglio1!$F$1:$F$39,0) -> #N/A | C5: =MATCH(A2,foglio1!$M$1:$M$39,0) -> #N/A | D5: =MATCH(A2,foglio1!$T$1:$T$39,0) -> #N/A | E5: =MATCH(A2,foglio1!$AA$1:$AA$39,0) -> #N/A | F5: =MATCH(A2,foglio1!$AH$1:$AH$39,0) -> #N/A | G5: 4ª | H5: =INDIRECT("Foglio1!$A$"&B5) -> #N/A | I5: =INDIRECT("Foglio1!$A$"&C5) -> #N/A | J5: =INDIRECT("Foglio1!$A$"&D5) -> #N/A | K5: =INDIRECT("Foglio1!$A$"&E5) -> #N/A | L5: =INDIRECT("Foglio1!$A$"&F5) -> #N/A
B6: =MATCH(A2,foglio1!$G$1:$G$39,0) -> #N/A | C6: =MATCH(A2,foglio1!$N$1:$N$39,0) -> #N/A | D6: =MATCH(A2,foglio1!$U$1:$U$39,0) -> #N/A | E6: =MATCH(A2,foglio1!$AB$1:$AB$39,0) -> #N/A | F6: =MATCH(A2,foglio1!$AI$1:$AI$39,0) -> #N/A | G6: 5ª | H6: =INDIRECT("Foglio1!$A$"&B6) -> #N/A | I6: =INDIRECT("Foglio1!$A$"&C6) -> #N/A | J6: =INDIRECT("Foglio1!$A$"&D6) -> #N/A | K6: =INDIRECT("Foglio1!$A$"&E6) -> #N/A | L6: =INDIRECT("Foglio1!$A$"&F6) -> #N/A
B7: =MATCH(A2,foglio1!$H$1:$H$39,0) -> #N/A | C7: =MATCH(A2,foglio1!$O$1:$O$39,0) -> #N/A | D7: =MATCH(A2,foglio1!$V$1:$V$39,0) -> #N/A | E7: =MATCH(A2,foglio1!$AC$1:$AC$39,0) -> #N/A | F7: =MATCH(A2,foglio1!$AJ$1:$AJ$39,0) -> #N/A | G7: 6ª | H7: =INDIRECT("Foglio1!$A$"&B7) -> #N/A | I7: =INDIRECT("Foglio1!$A$"&C7) -> #N/A | J7: =INDIRECT("Foglio1!$A$"&D7) -> #N/A | K7: =INDIRECT("Foglio1!$A$"&E7) -> #N/A | L7: =INDIRECT("Foglio1!$A$"&F7) -> #N/A
G9: ora | H9: lunedì | I9: martedì | J9: mercoledì | K9: giovedì | L9: venerdì
A10: 2E | B10: =MATCH(A10,foglio1!$C$1:$C$39,0) -> 29 | C10: =MATCH(A10,foglio1!$J$1:$J$39,0) -> 20 | D10: =MATCH(A10,foglio1!$Q$1:$Q$39,0) -> 20 | E10: =MATCH(A10,foglio1!$X$1:$X$39,0) -> 21 | F10: =MATCH(A10,foglio1!$AE$1:$AE$39,0) -> 29 | G10: 1ª | H10: =INDIRECT("Foglio1!$A$"&B10) -> VELARDO C. | I10: =INDIRECT("Foglio1!$A$"&C10) -> PEPE G. | J10: =INDIRECT("Foglio1!$A$"&D10) -> PEPE G. | K10: =INDIRECT("Foglio1!$A$"&E10) -> PISAPIA A. | L10: =INDIRECT("Foglio1!$A$"&F10) -> VELARDO C.
B11: =MATCH(A10,foglio1!$D$1:$D$39,0) -> 14 | C11: =MATCH(A10,foglio1!$K$1:$K$39,0) -> 20 | D11: =MATCH(A10,foglio1!$R$1:$R$39,0) -> 20 | E11: =MATCH(A10,foglio1!$Y$1:$Y$39,0) -> 22 | F11: =MATCH(A10,foglio1!$AF$1:$AF$39,0) -> 14 | G11: 2ª | H11: =INDIRECT("Foglio1!$A$"&B11) -> DONATELLI F. | I11: =INDIRECT("Foglio1!$A$"&C11) -> PEPE G. | J11: =INDIRECT("Foglio1!$A$"&D11) -> PEPE G. | K11: =INDIRECT("Foglio1!$A$"&E11) -> SANTORO M. | L11: =INDIRECT("Foglio1!$A$"&F11) -> DONATELLI F.
B12: =MATCH(A10,foglio1!$E$1:$E$39,0) -> 36 | C12: =MATCH(A10,foglio1!$L$1:$L$39,0) -> 19 | D12: =MATCH(A10,foglio1!$S$1:$S$39,0) -> 21 | E12: =MATCH(A10,foglio1!$Z$1:$Z$39,0) -> 6 | F12: =MATCH(A10,foglio1!$AG$1:$AG$39,0) -> 6 | G12: 3ª | H12: =INDIRECT("Foglio1!$A$"&B12) -> SANTORO M. | I12: =INDIRECT("Foglio1!$A$"&C12) -> PAGLIETTA G. | J12: =INDIRECT("Foglio1!$A$"&D12) -> PISAPIA A. | K12: =INDIRECT("Foglio1!$A$"&E12) -> BALDI G. | L12: =INDIRECT("Foglio1!$A$"&F12) -> BALDI G.
B13: =MATCH(A10,foglio1!$F$1:$F$39,0) -> 20 | C13: =MATCH(A10,foglio1!$M$1:$M$39,0) -> 20 | D13: =MATCH(A10,foglio1!$T$1:$T$39,0) -> 21 | E13: =MATCH(A10,foglio1!$AA$1:$AA$39,0) -> 20 | F13: =MATCH(A10,foglio1!$AH$1:$AH$39,0) -> 26 | G13: 4ª | H13: =INDIRECT("Foglio1!$A$"&B13) -> PEPE G. | I13: =INDIRECT("Foglio1!$A$"&C13) -> PEPE G. | J13: =INDIRECT("Foglio1!$A$"&D13) -> PISAPIA A. | K13: =INDIRECT("Foglio1!$A$"&E13) -> PEPE G. | L13: =INDIRECT("Foglio1!$A$"&F13) -> SPASIANO J.
B14: =MATCH(A10,foglio1!$G$1:$G$39,0) -> 7 | C14: =MATCH(A10,foglio1!$N$1:$N$39,0) -> 6 | D14: =MATCH(A10,foglio1!$U$1:$U$39,0) -> 6 | E14: =MATCH(A10,foglio1!$AB$1:$AB$39,0) -> 6 | F14: =MATCH(A10,foglio1!$AI$1:$AI$39,0) -> 19 | G14: 5ª | H14: =INDIRECT("Foglio1!$A$"&B14) -> BISOGNO A. | I14: =INDIRECT("Foglio1!$A$"&C14) -> BALDI G. | J14: =INDIRECT("Foglio1!$A$"&D14) -> BALDI G. | K14: =INDIRECT("Foglio1!$A$"&E14) -> BALDI G. | L14: =INDIRECT("Foglio1!$A$"&F14) -> PAGLIETTA G.
B15: =MATCH(A10,foglio1!$H$1:$H$39,0) -> 36 | C15: =MATCH(A10,foglio1!$O$1:$O$39,0) -> 26 | D15: =MATCH(A10,foglio1!$V$1:$V$39,0) -> 6 | E15: =MATCH(A10,foglio1!$AC$1:$AC$39,0) -> 7 | F15: =MATCH(A10,foglio1!$AJ$1:$AJ$39,0) -> 20 | G15: 6ª | H15: =INDIRECT("Foglio1!$A$"&B15) -> SANTORO M. | I15: =INDIRECT("Foglio1!$A$"&C15) -> SPASIANO J. | J15: =INDIRECT("Foglio1!$A$"&D15) -> BALDI G. | K15: =INDIRECT("Foglio1!$A$"&E15) -> BISOGNO A. | L15: =INDIRECT("Foglio1!$A$"&F15) -> PEPE G.
G17: ora | H17: lunedì | I17: martedì | J17: mercoledì | K17: giovedì | L17: venerdì
A18: 3E | B18: =MATCH(A18,foglio1!$C$1:$C$39,0) -> #N/A | C18: =MATCH(A18,foglio1!$J$1:$J$39,0) -> #N/A | D18: =MATCH(A18,foglio1!$Q$1:$Q$39,0) -> #N/A | E18: =MATCH(A18,foglio1!$X$1:$X$39,0) -> #N/A | F18: =MATCH(A18,foglio1!$AE$1:$AE$39,0) -> #N/A | G18: 1ª | H18: =INDIRECT("Foglio1!$A$"&B18) -> #N/A | I18: =INDIRECT("Foglio1!$A$"&C18) -> #N/A | J18: =INDIRECT("Foglio1!$A$"&D18) -> #N/A | K18: =INDIRECT("Foglio1!$A$"&E18) -> #N/A | L18: =INDIRECT("Foglio1!$A$"&F18) -> #N/A
B19: =MATCH(A18,foglio1!$D$1:$D$39,0) -> #N/A | C19: =MATCH(A18,foglio1!$K$1:$K$39,0) -> #N/A | D19: =MATCH(A18,foglio1!$R$1:$R$39,0) -> #N/A | E19: =MATCH(A18,foglio1!$Y$1:$Y$39,0) -> #N/A | F19: =MATCH(A18,foglio1!$AF$1:$AF$39,0) -> #N/A | G19: 2ª | H19: =INDIRECT("Foglio1!$A$"&B19) -> #N/A | I19: =INDIRECT("Foglio1!$A$"&C19) -> #N/A | J19: =INDIRECT("Foglio1!$A$"&D19) -> #N/A | K19: =INDIRECT("Foglio1!$A$"&E19) -> #N/A | L19: =INDIRECT("Foglio1!$A$"&F19) -> #N/A
B20: =MATCH(A18,foglio1!$E$1:$E$39,0) -> #N/A | C20: =MATCH(A18,foglio1!$L$1:$L$39,0) -> #N/A | D20: =MATCH(A18,foglio1!$S$1:$S$39,0) -> #N/A | E20: =MATCH(A18,foglio1!$Z$1:$Z$39,0) -> #N/A | F20: =MATCH(A18,foglio1!$AG$1:$AG$39,0) -> #N/A | G20: 3ª | H20: =INDIRECT("Foglio1!$A$"&B20) -> #N/A | I20: =INDIRECT("Foglio1!$A$"&C20) -> #N/A | J20: =INDIRECT("Foglio1!$A$"&D20) -> #N/A | K20: =INDIRECT("Foglio1!$A$"&E20) -> #N/A | L20: =INDIRECT("Foglio1!$A$"&F20) -> #N/A
B21: =MATCH(A18,foglio1!$F$1:$F$39,0) -> #N/A | C21: =MATCH(A18,foglio1!$M$1:$M$39,0) -> #N/A | D21: =MATCH(A18,foglio1!$T$1:$T$39,0) -> #N/A | E21: =MATCH(A18,foglio1!$AA$1:$AA$39,0) -> #N/A | F21: =MATCH(A18,foglio1!$AH$1:$AH$39,0) -> #N/A | G21: 4ª | H21: =INDIRECT("Foglio1!$A$"&B21) -> #N/A | I21: =INDIRECT("Foglio1!$A$"&C21) -> #N/A | J21: =INDIRECT("Foglio1!$A$"&D21) -> #N/A | K21: =INDIRECT("Foglio1!$A$"&E21) -> #N/A | L21: =INDIRECT("Foglio1!$A$"&F21) -> #N/A
B22: =MATCH(A18,foglio1!$G$1:$G$39,0) -> #N/A | C22: =MATCH(A18,foglio1!$N$1:$N$39,0) -> #N/A | D22: =MATCH(A18,foglio1!$U$1:$U$39,0) -> #N/A | E22: =MATCH(A18,foglio1!$AB$1:$AB$39,0) -> #N/A | F22: =MATCH(A18,foglio1!$AI$1:$AI$39,0) -> #N/A | G22: 5ª | H22: =INDIRECT("Foglio1!$A$"&B22) -> #N/A | I22: =INDIRECT("Foglio1!$A$"&C22) -> #N/A | J22: =INDIRECT("Foglio1!$A$"&D22) -> #N/A | K22: =INDIRECT("Foglio1!$A$"&E22) -> #N/A | L22: =INDIRECT("Foglio1!$A$"&F22) -> #N/A
B23: =MATCH(A18,foglio1!$H$1:$H$39,0) -> #N/A | C23: =MATCH(A18,foglio1!$O$1:$O$39,0) -> #N/A | D23: =MATCH(A18,foglio1!$V$1:$V$39,0) -> #N/A | E23: =MATCH(A18,foglio1!$AC$1:$AC$39,0) -> #N/A | F23: =MATCH(A18,foglio1!$AJ$1:$AJ$39,0) -> #N/A | G23: 6ª | H23: =INDIRECT("Foglio1!$A$"&B23) -> #N/A | I23: =INDIRECT("Foglio1!$A$"&C23) -> #N/A | J23: =INDIRECT("Foglio1!$A$"&D23) -> #N/A | K23: =INDIRECT("Foglio1!$A$"&E23) -> #N/A | L23: =INDIRECT("Foglio1!$A$"&F23) -> #N/A

Sheet Sez. D
G1: ora | H1: lunedì | I1: martedì | J1: mercoledì | K1: giovedì | L1: venerdì
A2: 1D | B2: =MATCH(A2,foglio1!$C$1:$C$39,0) -> 27 | C2: =MATCH(A2,foglio1!$J$1:$J$39,0) -> 28 | D2: =MATCH(A2,foglio1!$Q$1:$Q$39,0) -> 10 | E2: =MATCH(A2,foglio1!$X$1:$X$39,0) -> 10 | F2: =MATCH(A2,foglio1!$AE$1:$AE$39,0) -> 23 | G2: 1ª | H2: =INDIRECT("Foglio1!$A$"&B2) -> TREZZA R. | I2: =INDIRECT("Foglio1!$A$"&C2) -> TRIVISONE V. | J2: =INDIRECT("Foglio1!$A$"&D2) -> CALIFANO S. | K2: =INDIRECT("Foglio1!$A$"&E2) -> CALIFANO S. | L2: =INDIRECT("Foglio1!$A$"&F2) -> SCARABINO C.
B3: =MATCH(A2,foglio1!$D$1:$D$39,0) -> 16 | C3: =MATCH(A2,foglio1!$K$1:$K$39,0) -> 9 | D3: =MATCH(A2,foglio1!$R$1:$R$39,0) -> 19 | E3: =MATCH(A2,foglio1!$Y$1:$Y$39,0) -> 9 | F3: =MATCH(A2,foglio1!$AF$1:$AF$39,0) -> 23 | G3: 2ª | H3: =INDIRECT("Foglio1!$A$"&B3) -> DI MARINO R. | I3: =INDIRECT("Foglio1!$A$"&C3) -> CACCIATORE F. | J3: =INDIRECT("Foglio1!$A$"&D3) -> PAGLIETTA G. | K3: =INDIRECT("Foglio1!$A$"&E3) -> CACCIATORE F. | L3: =INDIRECT("Foglio1!$A$"&F3) -> SCARABINO C.
B4: =MATCH(A2,foglio1!$E$1:$E$39,0) -> 23 | C4: =MATCH(A2,foglio1!$L$1:$L$39,0) -> 23 | D4: =MATCH(A2,foglio1!$S$1:$S$39,0) -> 27 | E4: =MATCH(A2,foglio1!$Z$1:$Z$39,0) -> 26 | F4: =MATCH(A2,foglio1!$AG$1:$AG$39,0) -> 14 | G4: 3ª | H4: =INDIRECT("Foglio1!$A$"&B4) -> SCARABINO C. | I4: =INDIRECT("Foglio1!$A$"&C4) -> SCARABINO C. | J4: =INDIRECT("Foglio1!$A$"&D4) -> TREZZA R. | K4: =INDIRECT("Foglio1!$A$"&E4) -> SPASIANO J. | L4: =INDIRECT("Foglio1!$A$"&F4) -> DONATELLI F.
B5: =MATCH(A2,foglio1!$F$1:$F$39,0) -> 14 | C5: =MATCH(A2,foglio1!$M$1:$M$39,0) -> 23 | D5: =MATCH(A2,foglio1!$T$1:$T$39,0) -> 27 | E5: =MATCH(A2,foglio1!$AA$1:$AA$39,0) -> 27 | F5: =MATCH(A2,foglio1!$AH$1:$AH$39,0) -> 27 | G5: 4ª | H5: =INDIRECT("Foglio1!$A$"&B5) -> DONATELLI F. | I5: =INDIRECT("Foglio1!$A$"&C5) -> SCARABINO C. | J5: =INDIRECT("Foglio1!$A$"&D5) -> TREZZA R. | K5: =INDIRECT("Foglio1!$A$"&E5) -> TREZZA R. | L5: =INDIRECT("Foglio1!$A$"&F5) -> TREZZA R.
B6: =MATCH(A2,foglio1!$G$1:$G$39,0) -> 16 | C6: =MATCH(A2,foglio1!$N$1:$N$39,0) -> 27 | D6: =MATCH(A2,foglio1!$U$1:$U$39,0) -> 26 | E6: =MATCH(A2,foglio1!$AB$1:$AB$39,0) -> 27 | F6: =MATCH(A2,foglio1!$AI$1:$AI$39,0) -> 28 | G6: 5ª | H6: =INDIRECT("Foglio1!$A$"&B6) -> DI MARINO R. | I6: =INDIRECT("Foglio1!$A$"&C6) -> TREZZA R. | J6: =INDIRECT("Foglio1!$A$"&D6) -> SPASIANO J. | K6: =INDIRECT("Foglio1!$A$"&E6) -> TREZZA R. | L6: =INDIRECT("Foglio1!$A$"&F6) -> TRIVISONE V.
B7: =MATCH(A2,foglio1!$H$1:$H$39,0) -> 19 | C7: =MATCH(A2,foglio1!$O$1:$O$39,0) -> 27 | D7: =MATCH(A2,foglio1!$V$1:$V$39,0) -> 28 | E7: =MATCH(A2,foglio1!$AC$1:$AC$39,0) -> 23 | F7: =MATCH(A2,foglio1!$AJ$1:$AJ$39,0) -> 4 | G7: 6ª | H7: =INDIRECT("Foglio1!$A$"&B7) -> PAGLIETTA G. | I7: =INDIRECT("Foglio1!$A$"&C7) -> TREZZA R. | J7: =INDIRECT("Foglio1!$A$"&D7) -> TRIVISONE V. | K7: =INDIRECT("Foglio1!$A$"&E7) -> SCARABINO C. | L7: =INDIRECT("Foglio1!$A$"&F7) -> AMATO A
G9: ora | H9: lunedì | I9: martedì | J9: mercoledì | K9: giovedì | L9: venerdì
A10: 2D | B10: =MATCH(A10,foglio1!$C$1:$C$39,0) -> 20 | C10: =MATCH(A10,foglio1!$J$1:$J$39,0) -> 23 | D10: =MATCH(A10,foglio1!$Q$1:$Q$39,0) -> 26 | E10: =MATCH(A10,foglio1!$X$1:$X$39,0) -> 16 | F10: =MATCH(A10,foglio1!$AE$1:$AE$39,0) -> 9 | G10: 1ª | H10: =INDIRECT("Foglio1!$A$"&B10) -> PEPE G. | I10: =INDIRECT("Foglio1!$A$"&C10) -> SCARABINO C. | J10: =INDIRECT("Foglio1!$A$"&D10) -> SPASIANO J. | K10: =INDIRECT("Foglio1!$A$"&E10) -> DI MARINO R. | L10: =INDIRECT("Foglio1!$A$"&F10) -> CACCIATORE F.
B11: =MATCH(A10,foglio1!$D$1:$D$39,0) -> 20 | C11: =MATCH(A10,foglio1!$K$1:$K$39,0) -> 23 | D11: =MATCH(A10,foglio1!$R$1:$R$39,0) -> 10 | E11: =MATCH(A10,foglio1!$Y$1:$Y$39,0) -> 23 | F11: =MATCH(A10,foglio1!$AF$1:$AF$39,0) -> 20 | G11: 2ª | H11: =INDIRECT("Foglio1!$A$"&B11) -> PEPE G. | I11: =INDIRECT("Foglio1!$A$"&C11) -> SCARABINO C. | J11: =INDIRECT("Foglio1!$A$"&D11) -> CALIFANO S. | K11: =INDIRECT("Foglio1!$A$"&E11) -> SCARABINO C. | L11: =INDIRECT("Foglio1!$A$"&F11) -> PEPE G.
B12: =MATCH(A10,foglio1!$E$1:$E$39,0) -> 20 | C12: =MATCH(A10,foglio1!$L$1:$L$39,0) -> 28 | D12: =MATCH(A10,foglio1!$S$1:$S$39,0) -> 23 | E12: =MATCH(A10,foglio1!$Z$1:$Z$39,0) -> 20 | F12: =MATCH(A10,foglio1!$AG$1:$AG$39,0) -> 20 | G12: 3ª | H12: =INDIRECT("Foglio1!$A$"&B12) -> PEPE G. | I12: =INDIRECT("Foglio1!$A$"&C12) -> TRIVISONE V. | J12: =INDIRECT("Foglio1!$A$"&D12) -> SCARABINO C. | K12: =INDIRECT("Foglio1!$A$"&E12) -> PEPE G. | L12: =INDIRECT("Foglio1!$A$"&F12) -> PEPE G.
B13: =MATCH(A10,foglio1!$F$1:$F$39,0) -> 23 | C13: =MATCH(A10,foglio1!$M$1:$M$39,0) -> 26 | D13: =MATCH(A10,foglio1!$T$1:$T$39,0) -> 16 | E13: =MATCH(A10,foglio1!$AA$1:$AA$39,0) -> 19 | F13: =MATCH(A10,foglio1!$AH$1:$AH$39,0) -> 4 | G13: 4ª | H13: =INDIRECT("Foglio1!$A$"&B13) -> SCARABINO C. | I13: =INDIRECT("Foglio1!$A$"&C13) -> SPASIANO J. | J13: =INDIRECT("Foglio1!$A$"&D13) -> DI MARINO R. | K13: =INDIRECT("Foglio1!$A$"&E13) -> PAGLIETTA G. | L13: =INDIRECT("Foglio1!$A$"&F13) -> AMATO A
B14: =MATCH(A10,foglio1!$G$1:$G$39,0) -> 9 | C14: =MATCH(A10,foglio1!$N$1:$N$39,0) -> 20 | D14: =MATCH(A10,foglio1!$U$1:$U$39,0) -> 28 | E14: =MATCH(A10,foglio1!$AB$1:$AB$39,0) -> 20 | F14: =MATCH(A10,foglio1!$AI$1:$AI$39,0) -> 20 | G14: 5ª | H14: =INDIRECT("Foglio1!$A$"&B14) -> CACCIATORE F. | I14: =INDIRECT("Foglio1!$A$"&C14) -> PEPE G. | J14: =INDIRECT("Foglio1!$A$"&D14) -> TRIVISONE V. | K14: =INDIRECT("Foglio1!$A$"&E14) -> PEPE G. | L14: =INDIRECT("Foglio1!$A$"&F14) -> PEPE G.
B15: =MATCH(A10,foglio1!$H$1:$H$39,0) -> 10 | C15: =MATCH(A10,foglio1!$O$1:$O$39,0) -> 28 | D15: =MATCH(A10,foglio1!$V$1:$V$39,0) -> 23 | E15: =MATCH(A10,foglio1!$AC$1:$AC$39,0) -> 20 | F15: =MATCH(A10,foglio1!$AJ$1:$AJ$39,0) -> 19 | G15: 6ª | H15: =INDIRECT("Foglio1!$A$"&B15) -> CALIFANO S. | I15: =INDIRECT("Foglio1!$A$"&C15) -> TRIVISONE V. | J15: =INDIRECT("Foglio1!$A$"&D15) -> SCARABINO C. | K15: =INDIRECT("Foglio1!$A$"&E15) -> PEPE G. | L15: =INDIRECT("Foglio1!$A$"&F15) -> PAGLIETTA G.
G17: ora | H17: lunedì | I17: martedì | J17: mercoledì | K17: giovedì | L17: venerdì
A18: 3D | B18: =MATCH(A18,foglio1!$C$1:$C$39,0) -> 28 | C18: =MATCH(A18,foglio1!$J$1:$J$39,0) -> 10 | D18: =MATCH(A18,foglio1!$Q$1:$Q$39,0) -> 16 | E18: =MATCH(A18,foglio1!$X$1:$X$39,0) -> 27 | F18: =MATCH(A18,foglio1!$AE$1:$AE$39,0) -> 27 | G18: 1ª | H18: =INDIRECT("Foglio1!$A$"&B18) -> TRIVISONE V. | I18: =INDIRECT("Foglio1!$A$"&C18) -> CALIFANO S. | J18: =INDIRECT("Foglio1!$A$"&D18) -> DI MARINO R. | K18: =INDIRECT("Foglio1!$A$"&E18) -> TREZZA R. | L18: =INDIRECT("Foglio1!$A$"&F18) -> TREZZA R.
B19: =MATCH(A18,foglio1!$D$1:$D$39,0) -> 27 | C19: =MATCH(A18,foglio1!$K$1:$K$39,0) -> 19 | D19: =MATCH(A18,foglio1!$R$1:$R$39,0) -> 23 | E19: =MATCH(A18,foglio1!$Y$1:$Y$39,0) -> 27 | F19: =MATCH(A18,foglio1!$AF$1:$AF$39,0) -> 27 | G19: 2ª | H19: =INDIRECT("Foglio1!$A$"&B19) -> TREZZA R. | I19: =INDIRECT("Foglio1!$A$"&C19) -> PAGLIETTA G. | J19: =INDIRECT("Foglio1!$A$"&D19) -> SCARABINO C. | K19: =INDIRECT("Foglio1!$A$"&E19) -> TREZZA R. | L19: =INDIRECT("Foglio1!$A$"&F19) -> TREZZA R.
B20: =MATCH(A18,foglio1!$E$1:$E$39,0) -> 27 | C20: =MATCH(A18,foglio1!$L$1:$L$39,0) -> 27 | D20: =MATCH(A18,foglio1!$S$1:$S$39,0) -> 28 | E20: =MATCH(A18,foglio1!$Z$1:$Z$39,0) -> 9 | F20: =MATCH(A18,foglio1!$AG$1:$AG$39,0) -> 9 | G20: 3ª | H20: =INDIRECT("Foglio1!$A$"&B20) -> TREZZA R. | I20: =INDIRECT("Foglio1!$A$"&C20) -> TREZZA R. | J20: =INDIRECT("Foglio1!$A$"&D20) -> TRIVISONE V. | K20: =INDIRECT("Foglio1!$A$"&E20) -> CACCIATORE F. | L20: =INDIRECT("Foglio1!$A$"&F20) -> CACCIATORE F.
B21: =MATCH(A18,foglio1!$F$1:$F$39,0) -> 10 | C21: =MATCH(A18,foglio1!$M$1:$M$39,0) -> 27 | D21: =MATCH(A18,foglio1!$T$1:$T$39,0) -> 23 | E21: =MATCH(A18,foglio1!$AA$1:$AA$39,0) -> 23 | F21: =MATCH(A18,foglio1!$AH$1:$AH$39,0) -> 19 | G21: 4ª | H21: =INDIRECT("Foglio1!$A$"&B21) -> CALIFANO S. | I21: =INDIRECT("Foglio1!$A$"&C21) -> TREZZA R. | J21: =INDIRECT("Foglio1!$A$"&D21) -> SCARABINO C. | K21: =INDIRECT("Foglio1!$A$"&E21) -> SCARABINO C. | L21: =INDIRECT("Foglio1!$A$"&F21) -> PAGLIETTA G.
B22: =MATCH(A18,foglio1!$G$1:$G$39,0) -> 23 | C22: =MATCH(A18,foglio1!$N$1:$N$39,0) -> 26 | D22: =MATCH(A18,foglio1!$U$1:$U$39,0) -> 27 | E22: =MATCH(A18,foglio1!$AB$1:$AB$39,0) -> 23 | F22: =MATCH(A18,foglio1!$AI$1:$AI$39,0) -> 4 | G22: 5ª | H22: =INDIRECT("Foglio1!$A$"&B22) -> SCARABINO C. | I22: =INDIRECT("Foglio1!$A$"&C22) -> SPASIANO J. | J22: =INDIRECT("Foglio1!$A$"&D22) -> TREZZA R. | K22: =INDIRECT("Foglio1!$A$"&E22) -> SCARABINO C. | L22: =INDIRECT("Foglio1!$A$"&F22) -> AMATO A
B23: =MATCH(A18,foglio1!$H$1:$H$39,0) -> 23 | C23: =MATCH(A18,foglio1!$O$1:$O$39,0) -> 16 | D23: =MATCH(A18,foglio1!$V$1:$V$39,0) -> 27 | E23: =MATCH(A18,foglio1!$AC$1:$AC$39,0) -> 26 | F23: =MATCH(A18,foglio1!$AJ$1:$AJ$39,0) -> 28 | G23: 6ª | H23: =INDIRECT("Foglio1!$A$"&B23) -> SCARABINO C. | I23: =INDIRECT("Foglio1!$A$"&C23) -> DI MARINO R. | J23: =INDIRECT("Foglio1!$A$"&D23) -> TREZZA R. | K23: =INDIRECT("Foglio1!$A$"&E23) -> SPASIANO J. | L23: =INDIRECT("Foglio1!$A$"&F23) -> TRIVISONE V.

Sheet Sez. F
G1: ora | H1: lunedì | I1: martedì | J1: mercoledì | K1: giovedì | L1: venerdì
A2: 1F | B2: =MATCH(A2,foglio1!$C$1:$C$39,0) -> #N/A | C2: =MATCH(A2,foglio1!$J$1:$J$39,0) -> #N/A | D2: =MATCH(A2,foglio1!$Q$1:$Q$39,0) -> #N/A | E2: =MATCH(A2,foglio1!$X$1:$X$39,0) -> #N/A | F2: =MATCH(A2,foglio1!$AE$1:$AE$39,0) -> #N/A | G2: 1ª | H2: =INDIRECT("Foglio1!$A$"&B2) -> #N/A | I2: =INDIRECT("Foglio1!$A$"&C2) -> #N/A | J2: =INDIRECT("Foglio1!$A$"&D2) -> #N/A | K2: =INDIRECT("Foglio1!$A$"&E2) -> #N/A | L2: =INDIRECT("Foglio1!$A$"&F2) -> #N/A
B3: =MATCH(A2,foglio1!$D$1:$D$39,0) -> #N/A | C3: =MATCH(A2,foglio1!$K$1:$K$39,0) -> #N/A | D3: =MATCH(A2,foglio1!$R$1:$R$39,0) -> #N/A | E3: =MATCH(A2,foglio1!$Y$1:$Y$39,0) -> #N/A | F3: =MATCH(A2,foglio1!$AF$1:$AF$39,0) -> #N/A | G3: 2ª | H3: =INDIRECT("Foglio1!$A$"&B3) -> #N/A | I3: =INDIRECT("Foglio1!$A$"&C3) -> #N/A | J3: =INDIRECT("Foglio1!$A$"&D3) -> #N/A | K3: =INDIRECT("Foglio1!$A$"&E3) -> #N/A | L3: =INDIRECT("Foglio1!$A$"&F3) -> #N/A
B4: =MATCH(A2,foglio1!$E$1:$E$39,0) -> #N/A | C4: =MATCH(A2,foglio1!$L$1:$L$39,0) -> #N/A | D4: =MATCH(A2,foglio1!$S$1:$S$39,0) -> #N/A | E4: =MATCH(A2,foglio1!$Z$1:$Z$39,0) -> #N/A | F4: =MATCH(A2,foglio1!$AG$1:$AG$39,0) -> #N/A | G4: 3ª | H4: =INDIRECT("Foglio1!$A$"&B4) -> #N/A | I4: =INDIRECT("Foglio1!$A$"&C4) -> #N/A | J4: =INDIRECT("Foglio1!$A$"&D4) -> #N/A | K4: =INDIRECT("Foglio1!$A$"&E4) -> #N/A | L4: =INDIRECT("Foglio1!$A$"&F4) -> #N/A
B5: =MATCH(A2,foglio1!$F$1:$F$39,0) -> #N/A | C5: =MATCH(A2,foglio1!$M$1:$M$39,0) -> #N/A | D5: =MATCH(A2,foglio1!$T$1:$T$39,0) -> #N/A | E5: =MATCH(A2,foglio1!$AA$1:$AA$39,0) -> #N/A | F5: =MATCH(A2,foglio1!$AH$1:$AH$39,0) -> #N/A | G5: 4ª | H5: =INDIRECT("Foglio1!$A$"&B5) -> #N/A | I5: =INDIRECT("Foglio1!$A$"&C5) -> #N/A | J5: =INDIRECT("Foglio1!$A$"&D5) -> #N/A | K5: =INDIRECT("Foglio1!$A$"&E5) -> #N/A | L5: =INDIRECT("Foglio1!$A$"&F5) -> #N/A
B6: =MATCH(A2,foglio1!$G$1:$G$39,0) -> #N/A | C6: =MATCH(A2,foglio1!$N$1:$N$39,0) -> #N/A | D6: =MATCH(A2,foglio1!$U$1:$U$39,0) -> #N/A | E6: =MATCH(A2,foglio1!$AB$1:$AB$39,0) -> #N/A | F6: =MATCH(A2,foglio1!$AI$1:$AI$39,0) -> #N/A | G6: 5ª | H6: =INDIRECT("Foglio1!$A$"&B6) -> #N/A | I6: =INDIRECT("Foglio1!$A$"&C6) -> #N/A | J6: =INDIRECT("Foglio1!$A$"&D6) -> #N/A | K6: =INDIRECT("Foglio1!$A$"&E6) -> #N/A | L6: =INDIRECT("Foglio1!$A$"&F6) -> #N/A
B7: =MATCH(A2,foglio1!$H$1:$H$39,0) -> #N/A | C7: =MATCH(A2,foglio1!$O$1:$O$39,0) -> #N/A | D7: =MATCH(A2,foglio1!$V$1:$V$39,0) -> #N/A | E7: =MATCH(A2,foglio1!$AC$1:$AC$39,0) -> #N/A | F7: =MATCH(A2,foglio1!$AJ$1:$AJ$39,0) -> #N/A | G7: 6ª | H7: =INDIRECT("Foglio1!$A$"&B7) -> #N/A | I7: =INDIRECT("Foglio1!$A$"&C7) -> #N/A | J7: =INDIRECT("Foglio1!$A$"&D7) -> #N/A | K7: =INDIRECT("Foglio1!$A$"&E7) -> #N/A | L7: =INDIRECT("Foglio1!$A$"&F7) -> #N/A
G9: ora | H9: lunedì | I9: martedì | J9: mercoledì | K9: giovedì | L9: venerdì
A10: 2F | B10: =MATCH(A10,foglio1!$C$1:$C$39,0) -> #N/A | C10: =MATCH(A10,foglio1!$J$1:$J$39,0) -> #N/A | D10: =MATCH(A10,foglio1!$Q$1:$Q$39,0) -> #N/A | E10: =MATCH(A10,foglio1!$X$1:$X$39,0) -> #N/A | F10: =MATCH(A10,foglio1!$AE$1:$AE$39,0) -> #N/A | G10: 1ª | H10: =INDIRECT("Foglio1!$A$"&B10) -> #N/A | I10: =INDIRECT("Foglio1!$A$"&C10) -> #N/A | J10: =INDIRECT("Foglio1!$A$"&D10) -> #N/A | K10: =INDIRECT("Foglio1!$A$"&E10) -> #N/A | L10: =INDIRECT("Foglio1!$A$"&F10) -> #N/A
B11: =MATCH(A10,foglio1!$D$1:$D$39,0) -> #N/A | C11: =MATCH(A10,foglio1!$K$1:$K$39,0) -> #N/A | D11: =MATCH(A10,foglio1!$R$1:$R$39,0) -> #N/A | E11: =MATCH(A10,foglio1!$Y$1:$Y$39,0) -> #N/A | F11: =MATCH(A10,foglio1!$AF$1:$AF$39,0) -> #N/A | G11: 2ª | H11: =INDIRECT("Foglio1!$A$"&B11) -> #N/A | I11: =INDIRECT("Foglio1!$A$"&C11) -> #N/A | J11: =INDIRECT("Foglio1!$A$"&D11) -> #N/A | K11: =INDIRECT("Foglio1!$A$"&E11) -> #N/A | L11: =INDIRECT("Foglio1!$A$"&F11) -> #N/A
B12: =MATCH(A10,foglio1!$E$1:$E$39,0) -> #N/A | C12: =MATCH(A10,foglio1!$L$1:$L$39,0) -> #N/A | D12: =MATCH(A10,foglio1!$S$1:$S$39,0) -> #N/A | E12: =MATCH(A10,foglio1!$Z$1:$Z$39,0) -> #N/A | F12: =MATCH(A10,foglio1!$AG$1:$AG$39,0) -> #N/A | G12: 3ª | H12: =INDIRECT("Foglio1!$A$"&B12) -> #N/A | I12: =INDIRECT("Foglio1!$A$"&C12) -> #N/A | J12: =INDIRECT("Foglio1!$A$"&D12) -> #N/A | K12: =INDIRECT("Foglio1!$A$"&E12) -> #N/A | L12: =INDIRECT("Foglio1!$A$"&F12) -> #N/A
B13: =MATCH(A10,foglio1!$F$1:$F$39,0) -> #N/A | C13: =MATCH(A10,foglio1!$M$1:$M$39,0) -> #N/A | D13: =MATCH(A10,foglio1!$T$1:$T$39,0) -> #N/A | E13: =MATCH(A10,foglio1!$AA$1:$AA$39,0) -> #N/A | F13: =MATCH(A10,foglio1!$AH$1:$AH$39,0) -> #N/A | G13: 4ª | H13: =INDIRECT("Foglio1!$A$"&B13) -> #N/A | I13: =INDIRECT("Foglio1!$A$"&C13) -> #N/A | J13: =INDIRECT("Foglio1!$A$"&D13) -> #N/A | K13: =INDIRECT("Foglio1!$A$"&E13) -> #N/A | L13: =INDIRECT("Foglio1!$A$"&F13) -> #N/A
B14: =MATCH(A10,foglio1!$G$1:$G$39,0) -> #N/A | C14: =MATCH(A10,foglio1!$N$1:$N$39,0) -> #N/A | D14: =MATCH(A10,foglio1!$U$1:$U$39,0) -> #N/A | E14: =MATCH(A10,foglio1!$AB$1:$AB$39,0) -> #N/A | F14: =MATCH(A10,foglio1!$AI$1:$AI$39,0) -> #N/A | G14: 5ª | H14: =INDIRECT("Foglio1!$A$"&B14) -> #N/A | I14: =INDIRECT("Foglio1!$A$"&C14) -> #N/A | J14: =INDIRECT("Foglio1!$A$"&D14) -> #N/A | K14: =INDIRECT("Foglio1!$A$"&E14) -> #N/A | L14: =INDIRECT("Foglio1!$A$"&F14) -> #N/A
B15: =MATCH(A10,foglio1!$H$1:$H$39,0) -> #N/A | C15: =MATCH(A10,foglio1!$O$1:$O$39,0) -> #N/A | D15: =MATCH(A10,foglio1!$V$1:$V$39,0) -> #N/A | E15: =MATCH(A10,foglio1!$AC$1:$AC$39,0) -> #N/A | F15: =MATCH(A10,foglio1!$AJ$1:$AJ$39,0) -> #N/A | G15: 6ª | H15: =INDIRECT("Foglio1!$A$"&B15) -> #N/A | I15: =INDIRECT("Foglio1!$A$"&C15) -> #N/A | J15: =INDIRECT("Foglio1!$A$"&D15) -> #N/A | K15: =INDIRECT("Foglio1!$A$"&E15) -> #N/A | L15: =INDIRECT("Foglio1!$A$"&F15) -> #N/A
G17: ora | H17: lunedì | I17: martedì | J17: mercoledì | K17: giovedì | L17: venerdì
A18: 3F | B18: =MATCH(A18,foglio1!$C$1:$C$39,0) -> #N/A | C18: =MATCH(A18,foglio1!$J$1:$J$39,0) -> #N/A | D18: =MATCH(A18,foglio1!$Q$1:$Q$39,0) -> #N/A | E18: =MATCH(A18,foglio1!$X$1:$X$39,0) -> #N/A | F18: =MATCH(A18,foglio1!$AE$1:$AE$39,0) -> #N/A | G18: 1ª | H18: =INDIRECT("Foglio1!$A$"&B18) -> #N/A | I18: =INDIRECT("Foglio1!$A$"&C18) -> #N/A | J18: =INDIRECT("Foglio1!$A$"&D18) -> #N/A | K18: =INDIRECT("Foglio1!$A$"&E18) -> #N/A | L18: =INDIRECT("Foglio1!$A$"&F18) -> #N/A
B19: =MATCH(A18,foglio1!$D$1:$D$39,0) -> #N/A | C19: =MATCH(A18,foglio1!$K$1:$K$39,0) -> #N/A | D19: =MATCH(A18,foglio1!$R$1:$R$39,0) -> #N/A | E19: =MATCH(A18,foglio1!$Y$1:$Y$39,0) -> #N/A | F19: =MATCH(A18,foglio1!$AF$1:$AF$39,0) -> #N/A | G19: 2ª | H19: =INDIRECT("Foglio1!$A$"&B19) -> #N/A | I19: =INDIRECT("Foglio1!$A$"&C19) -> #N/A | J19: =INDIRECT("Foglio1!$A$"&D19) -> #N/A | K19: =INDIRECT("Foglio1!$A$"&E19) -> #N/A | L19: =INDIRECT("Foglio1!$A$"&F19) -> #N/A
B20: =MATCH(A18,foglio1!$E$1:$E$39,0) -> #N/A | C20: =MATCH(A18,foglio1!$L$1:$L$39,0) -> #N/A | D20: =MATCH(A18,foglio1!$S$1:$S$39,0) -> #N/A | E20: =MATCH(A18,foglio1!$Z$1:$Z$39,0) -> #N/A | F20: =MATCH(A18,foglio1!$AG$1:$AG$39,0) -> #N/A | G20: 3ª | H20: =INDIRECT("Foglio1!$A$"&B20) -> #N/A | I20: =INDIRECT("Foglio1!$A$"&C20) -> #N/A | J20: =INDIRECT("Foglio1!$A$"&D20) -> #N/A | K20: =INDIRECT("Foglio1!$A$"&E20) -> #N/A | L20: =INDIRECT("Foglio1!$A$"&F20) -> #N/A
B21: =MATCH(A18,foglio1!$F$1:$F$39,0) -> #N/A | C21: =MATCH(A18,foglio1!$M$1:$M$39,0) -> #N/A | D21: =MATCH(A18,foglio1!$T$1:$T$39,0) -> #N/A | E21: =MATCH(A18,foglio1!$AA$1:$AA$39,0) -> #N/A | F21: =MATCH(A18,foglio1!$AH$1:$AH$39,0) -> #N/A | G21: 4ª | H21: =INDIRECT("Foglio1!$A$"&B21) -> #N/A | I21: =INDIRECT("Foglio1!$A$"&C21) -> #N/A | J21: =INDIRECT("Foglio1!$A$"&D21) -> #N/A | K21: =INDIRECT("Foglio1!$A$"&E21) -> #N/A | L21: =INDIRECT("Foglio1!$A$"&F21) -> #N/A
B22: =MATCH(A18,foglio1!$G$1:$G$39,0) -> #N/A | C22: =MATCH(A18,foglio1!$N$1:$N$39,0) -> #N/A | D22: =MATCH(A18,foglio1!$U$1:$U$39,0) -> #N/A | E22: =MATCH(A18,foglio1!$AB$1:$AB$39,0) -> #N/A | F22: =MATCH(A18,foglio1!$AI$1:$AI$39,0) -> #N/A | G22: 5ª | H22: =INDIRECT("Foglio1!$A$"&B22) -> #N/A | I22: =INDIRECT("Foglio1!$A$"&C22) -> #N/A | J22: =INDIRECT("Foglio1!$A$"&D22) -> #N/A | K22: =INDIRECT("Foglio1!$A$"&E22) -> #N/A | L22: =INDIRECT("Foglio1!$A$"&F22) -> #N/A
B23: =MATCH(A18,foglio1!$H$1:$H$39,0) -> #N/A | C23: =MATCH(A18,foglio1!$O$1:$O$39,0) -> #N/A | D23: =MATCH(A18,foglio1!$V$1:$V$39,0) -> #N/A | E23: =MATCH(A18,foglio1!$AC$1:$AC$39,0) -> #N/A | F23: =MATCH(A18,foglio1!$AJ$1:$AJ$39,0) -> #N/A | G23: 6ª | H23: =INDIRECT("Foglio1!$A$"&B23) -> #N/A | I23: =INDIRECT("Foglio1!$A$"&C23) -> #N/A | J23: =INDIRECT("Foglio1!$A$"&D23) -> #N/A | K23: =INDIRECT("Foglio1!$A$"&E23) -> #N/A | L23: =INDIRECT("Foglio1!$A$"&F23) -> #N/A

Sheet Sez. G
G1: ora | H1: lunedì | I1: martedì | J1: mercoledì | K1: giovedì | L1: venerdì
A2: 1G | B2: =MATCH(A2,foglio1!$C$1:$C$39,0) -> #N/A | C2: =MATCH(A2,foglio1!$J$1:$J$39,0) -> #N/A | D2: =MATCH(A2,foglio1!$Q$1:$Q$39,0) -> #N/A | E2: =MATCH(A2,foglio1!$X$1:$X$39,0) -> #N/A | F2: =MATCH(A2,foglio1!$AE$1:$AE$39,0) -> #N/A | G2: 1ª | H2: =INDIRECT("Foglio1!$A$"&B2) -> #N/A | I2: Pappalardo Anna (lettere) | J2: =INDIRECT("Foglio1!$A$"&D2) -> #N/A | K2: =INDIRECT("Foglio1!$A$"&E2) -> #N/A | L2: =INDIRECT("Foglio1!$A$"&F2) -> #N/A
B3: =MATCH(A2,foglio1!$D$1:$D$39,0) -> #N/A | C3: =MATCH(A2,foglio1!$K$1:$K$39,0) -> #N/A | D3: =MATCH(A2,foglio1!$R$1:$R$39,0) -> #N/A | E3: =MATCH(A2,foglio1!$Y$1:$Y$39,0) -> #N/A | F3: =MATCH(A2,foglio1!$AF$1:$AF$39,0) -> #N/A | G3: 2ª | H3: =INDIRECT("Foglio1!$A$"&B3) -> #N/A | I3: =INDIRECT("Foglio1!$A$"&C3) -> #N/A | J3: =INDIRECT("Foglio1!$A$"&D3) -> #N/A | K3: =INDIRECT("Foglio1!$A$"&E3) -> #N/A | L3: =INDIRECT("Foglio1!$A$"&F3) -> #N/A
B4: =MATCH(A2,foglio1!$E$1:$E$39,0) -> #N/A | C4: =MATCH(A2,foglio1!$L$1:$L$39,0) -> #N/A | D4: =MATCH(A2,foglio1!$S$1:$S$39,0) -> #N/A | E4: =MATCH(A2,foglio1!$Z$1:$Z$39,0) -> #N/A | F4: =MATCH(A2,foglio1!$AG$1:$AG$39,0) -> #N/A | G4: 3ª | H4: =INDIRECT("Foglio1!$A$"&B4) -> #N/A | I4: =INDIRECT("Foglio1!$A$"&C4) -> #N/A | J4: =INDIRECT("Foglio1!$A$"&D4) -> #N/A | K4: =INDIRECT("Foglio1!$A$"&E4) -> #N/A | L4: =INDIRECT("Foglio1!$A$"&F4) -> #N/A
B5: =MATCH(A2,foglio1!$F$1:$F$39,0) -> #N/A | C5: =MATCH(A2,foglio1!$M$1:$M$39,0) -> #N/A | D5: =MATCH(A2,foglio1!$T$1:$T$39,0) -> #N/A | E5: =MATCH(A2,foglio1!$AA$1:$AA$39,0) -> #N/A | F5: =MATCH(A2,foglio1!$AH$1:$AH$39,0) -> #N/A | G5: 4ª | H5: =INDIRECT("Foglio1!$A$"&B5) -> #N/A | I5: =INDIRECT("Foglio1!$A$"&C5) -> #N/A | J5: =INDIRECT("Foglio1!$A$"&D5) -> #N/A | K5: =INDIRECT("Foglio1!$A$"&E5) -> #N/A | L5: =INDIRECT("Foglio1!$A$"&F5) -> #N/A
B6: =MATCH(A2,foglio1!$G$1:$G$39,0) -> #N/A | C6: =MATCH(A2,foglio1!$N$1:$N$39,0) -> #N/A | D6: =MATCH(A2,foglio1!$U$1:$U$39,0) -> #N/A | E6: =MATCH(A2,foglio1!$AB$1:$AB$39,0) -> #N/A | F6: =MATCH(A2,foglio1!$AI$1:$AI$39,0) -> #N/A | G6: 5ª | H6: =INDIRECT("Foglio1!$A$"&B6) -> #N/A | I6: =INDIRECT("Foglio1!$A$"&C6) -> #N/A | J6: =INDIRECT("Foglio1!$A$"&D6) -> #N/A | K6: =INDIRECT("Foglio1!$A$"&E6) -> #N/A | L6: =INDIRECT("Foglio1!$A$"&F6) -> #N/A
B7: =MATCH(A2,foglio1!$H$1:$H$39,0) -> #N/A | C7: =MATCH(A2,foglio1!$O$1:$O$39,0) -> #N/A | D7: =MATCH(A2,foglio1!$V$1:$V$39,0) -> #N/A | E7: =MATCH(A2,foglio1!$AC$1:$AC$39,0) -> #N/A | F7: =MATCH(A2,foglio1!$AJ$1:$AJ$39,0) -> #N/A | G7: 6ª | H7: =INDIRECT("Foglio1!$A$"&B7) -> #N/A | I7: =INDIRECT("Foglio1!$A$"&C7) -> #N/A | J7: =INDIRECT("Foglio1!$A$"&D7) -> #N/A | K7: =INDIRECT("Foglio1!$A$"&E7) -> #N/A | L7: =INDIRECT("Foglio1!$A$"&F7) -> #N/A
G9: ora | H9: lunedì | I9: martedì | J9: mercoledì | K9: giovedì | L9: venerdì
A10: 2G | B10: =MATCH(A10,foglio1!$C$1:$C$39,0) -> #N/A | C10: =MATCH(A10,foglio1!$J$1:$J$39,0) -> #N/A | D10: =MATCH(A10,foglio1!$Q$1:$Q$39,0) -> #N/A | E10: =MATCH(A10,foglio1!$X$1:$X$39,0) -> #N/A | F10: =MATCH(A10,foglio1!$AE$1:$AE$39,0) -> #N/A | G10: 1ª | H10: =INDIRECT("Foglio1!$A$"&B10) -> #N/A | I10: =INDIRECT("Foglio1!$A$"&C10) -> #N/A | J10: =INDIRECT("Foglio1!$A$"&D10) -> #N/A | K10: =INDIRECT("Foglio1!$A$"&E10) -> #N/A | L10: =INDIRECT("Foglio1!$A$"&F10) -> #N/A
B11: =MATCH(A10,foglio1!$D$1:$D$39,0) -> #N/A | C11: =MATCH(A10,foglio1!$K$1:$K$39,0) -> #N/A | D11: =MATCH(A10,foglio1!$R$1:$R$39,0) -> #N/A | E11: =MATCH(A10,foglio1!$Y$1:$Y$39,0) -> #N/A | F11: =MATCH(A10,foglio1!$AF$1:$AF$39,0) -> #N/A | G11: 2ª | H11: =INDIRECT("Foglio1!$A$"&B11) -> #N/A | I11: =INDIRECT("Foglio1!$A$"&C11) -> #N/A | J11: =INDIRECT("Foglio1!$A$"&D11) -> #N/A | K11: =INDIRECT("Foglio1!$A$"&E11) -> #N/A | L11: =INDIRECT("Foglio1!$A$"&F11) -> #N/A
B12: =MATCH(A10,foglio1!$E$1:$E$39,0) -> #N/A | C12: =MATCH(A10,foglio1!$L$1:$L$39,0) -> #N/A | D12: =MATCH(A10,foglio1!$S$1:$S$39,0) -> #N/A | E12: =MATCH(A10,foglio1!$Z$1:$Z$39,0) -> #N/A | F12: =MATCH(A10,foglio1!$AG$1:$AG$39,0) -> #N/A | G12: 3ª | H12: =INDIRECT("Foglio1!$A$"&B12) -> #N/A | I12: =INDIRECT("Foglio1!$A$"&C12) -> #N/A | J12: =INDIRECT("Foglio1!$A$"&D12) -> #N/A | K12: =INDIRECT("Foglio1!$A$"&E12) -> #N/A | L12: =INDIRECT("Foglio1!$A$"&F12) -> #N/A
B13: =MATCH(A10,foglio1!$F$1:$F$39,0) -> #N/A | C13: =MATCH(A10,foglio1!$M$1:$M$39,0) -> #N/A | D13: =MATCH(A10,foglio1!$T$1:$T$39,0) -> #N/A | E13: =MATCH(A10,foglio1!$AA$1:$AA$39,0) -> #N/A | F13: =MATCH(A10,foglio1!$AH$1:$AH$39,0) -> #N/A | G13: 4ª | H13: =INDIRECT("Foglio1!$A$"&B13) -> #N/A | I13: =INDIRECT("Foglio1!$A$"&C13) -> #N/A | J13: =INDIRECT("Foglio1!$A$"&D13) -> #N/A | K13: =INDIRECT("Foglio1!$A$"&E13) -> #N/A | L13: =INDIRECT("Foglio1!$A$"&F13) -> #N/A
B14: =MATCH(A10,foglio1!$G$1:$G$39,0) -> #N/A | C14: =MATCH(A10,foglio1!$N$1:$N$39,0) -> #N/A | D14: =MATCH(A10,foglio1!$U$1:$U$39,0) -> #N/A | E14: =MATCH(A10,foglio1!$AB$1:$AB$39,0) -> #N/A | F14: =MATCH(A10,foglio1!$AI$1:$AI$39,0) -> #N/A | G14: 5ª | H14: =INDIRECT("Foglio1!$A$"&B14) -> #N/A | I14: =INDIRECT("Foglio1!$A$"&C14) -> #N/A | J14: =INDIRECT("Foglio1!$A$"&D14) -> #N/A | K14: =INDIRECT("Foglio1!$A$"&E14) -> #N/A | L14: =INDIRECT("Foglio1!$A$"&F14) -> #N/A
B15: =MATCH(A10,foglio1!$H$1:$H$39,0) -> #N/A | C15: =MATCH(A10,foglio1!$O$1:$O$39,0) -> #N/A | D15: =MATCH(A10,foglio1!$V$1:$V$39,0) -> #N/A | E15: =MATCH(A10,foglio1!$AC$1:$AC$39,0) -> #N/A | F15: =MATCH(A10,foglio1!$AJ$1:$AJ$39,0) -> #N/A | G15: 6ª | H15: =INDIRECT("Foglio1!$A$"&B15) -> #N/A | I15: =INDIRECT("Foglio1!$A$"&C15) -> #N/A | J15: =INDIRECT("Foglio1!$A$"&D15) -> #N/A | K15: =INDIRECT("Foglio1!$A$"&E15) -> #N/A | L15: =INDIRECT("Foglio1!$A$"&F15) -> #N/A
G17: ora | H17: lunedì | I17: martedì | J17: mercoledì | K17: giovedì | L17: venerdì
A18: 3G | B18: =MATCH(A18,foglio1!$C$1:$C$39,0) -> #N/A | C18: =MATCH(A18,foglio1!$J$1:$J$39,0) -> #N/A | D18: =MATCH(A18,foglio1!$Q$1:$Q$39,0) -> #N/A | E18: =MATCH(A18,foglio1!$X$1:$X$39,0) -> #N/A | F18: =MATCH(A18,foglio1!$AE$1:$AE$39,0) -> #N/A | G18: 1ª | H18: =INDIRECT("Foglio1!$A$"&B18) -> #N/A | I18: =INDIRECT("Foglio1!$A$"&C18) -> #N/A | J18: =INDIRECT("Foglio1!$A$"&D18) -> #N/A | K18: =INDIRECT("Foglio1!$A$"&E18) -> #N/A | L18: =INDIRECT("Foglio1!$A$"&F18) -> #N/A
B19: =MATCH(A18,foglio1!$D$1:$D$39,0) -> #N/A | C19: =MATCH(A18,foglio1!$K$1:$K$39,0) -> #N/A | D19: =MATCH(A18,foglio1!$R$1:$R$39,0) -> #N/A | E19: =MATCH(A18,foglio1!$Y$1:$Y$39,0) -> #N/A | F19: =MATCH(A18,foglio1!$AF$1:$AF$39,0) -> #N/A | G19: 2ª | H19: =INDIRECT("Foglio1!$A$"&B19) -> #N/A | I19: =INDIRECT("Foglio1!$A$"&C19) -> #N/A | J19: =INDIRECT("Foglio1!$A$"&D19) -> #N/A | K19: =INDIRECT("Foglio1!$A$"&E19) -> #N/A | L19: =INDIRECT("Foglio1!$A$"&F19) -> #N/A
B20: =MATCH(A18,foglio1!$E$1:$E$39,0) -> #N/A | C20: =MATCH(A18,foglio1!$L$1:$L$39,0) -> #N/A | D20: =MATCH(A18,foglio1!$S$1:$S$39,0) -> #N/A | E20: =MATCH(A18,foglio1!$Z$1:$Z$39,0) -> #N/A | F20: =MATCH(A18,foglio1!$AG$1:$AG$39,0) -> #N/A | G20: 3ª | H20: =INDIRECT("Foglio1!$A$"&B20) -> #N/A | I20: =INDIRECT("Foglio1!$A$"&C20) -> #N/A | J20: =INDIRECT("Foglio1!$A$"&D20) -> #N/A | K20: =INDIRECT("Foglio1!$A$"&E20) -> #N/A | L20: =INDIRECT("Foglio1!$A$"&F20) -> #N/A
B21: =MATCH(A18,foglio1!$F$1:$F$39,0) -> #N/A | C21: =MATCH(A18,foglio1!$M$1:$M$39,0) -> #N/A | D21: =MATCH(A18,foglio1!$T$1:$T$39,0) -> #N/A | E21: =MATCH(A18,foglio1!$AA$1:$AA$39,0) -> #N/A | F21: =MATCH(A18,foglio1!$AH$1:$AH$39,0) -> #N/A | G21: 4ª | H21: =INDIRECT("Foglio1!$A$"&B21) -> #N/A | I21: =INDIRECT("Foglio1!$A$"&C21) -> #N/A | J21: =INDIRECT("Foglio1!$A$"&D21) -> #N/A | K21: =INDIRECT("Foglio1!$A$"&E21) -> #N/A | L21: =INDIRECT("Foglio1!$A$"&F21) -> #N/A
B22: =MATCH(A18,foglio1!$G$1:$G$39,0) -> #N/A | C22: =MATCH(A18,foglio1!$N$1:$N$39,0) -> #N/A | D22: =MATCH(A18,foglio1!$U$1:$U$39,0) -> #N/A | E22: =MATCH(A18,foglio1!$AB$1:$AB$39,0) -> #N/A | F22: =MATCH(A18,foglio1!$AI$1:$AI$39,0) -> #N/A | G22: 5ª | H22: =INDIRECT("Foglio1!$A$"&B22) -> #N/A | I22: =INDIRECT("Foglio1!$A$"&C22) -> #N/A | J22: =INDIRECT("Foglio1!$A$"&D22) -> #N/A | K22: =INDIRECT("Foglio1!$A$"&E22) -> #N/A | L22: =INDIRECT("Foglio1!$A$"&F22) -> #N/A
B23: =MATCH(A18,foglio1!$H$1:$H$39,0) -> #N/A | C23: =MATCH(A18,foglio1!$O$1:$O$39,0) -> #N/A | D23: =MATCH(A18,foglio1!$V$1:$V$39,0) -> #N/A | E23: =MATCH(A18,foglio1!$AC$1:$AC$39,0) -> #N/A | F23: =MATCH(A18,foglio1!$AJ$1:$AJ$39,0) -> #N/A | G23: 6ª | H23: =INDIRECT("Foglio1!$A$"&B23) -> #N/A | I23: =INDIRECT("Foglio1!$A$"&C23) -> #N/A | J23: =INDIRECT("Foglio1!$A$"&D23) -> #N/A | K23: =INDIRECT("Foglio1!$A$"&E23) -> #N/A | L23: =INDIRECT("Foglio1!$A$"&F23) -> #N/A

Sheet STAFF
A1: DOCENTI | B1: Lunedì | I1: Martedì | P1: Mercoledì | W1: Giovedì | AD1: Venerdì
B2: 1 | C2: 2 | D2: 3 | E2: 4 | F2: 5 | G2: 6 | I2: 1 | J2: 2 | K2: 3 | L2: 4 | M2: 5 | N2: 6 | P2: 1 | Q2: 2 | R2: 3 | S2: 4 | T2: 5 | U2: 6 | W2: 1 | X2: 2 | Y2: 3 | Z2: 4 | AA2: 5 | AB2: 6 | AD2: 1 | AE2: 2 | AF2: 3 | AG2: 4 | AH2: 5 | AI2: 6
A3: Damiano Maria Giovanna
A4: Petrone Rossella

Sheet potenziamento
A1: ORARIO A.S. 2022/2023 POTENZIAMENTO
A2: MATERIA | B2: Lunedì | I2: Martedì | P2: Mercoledì | W2: Giovedì | AD2: Venerdì
B3: 1 | C3: 2 | D3: 3 | E3: 4 | F3: 5 | G3: 6 | I3: 1 | J3: 2 | K3: 3 | L3: 4 | M3: 5 | N3: 6 | P3: 1 | Q3: 2 | R3: 3 | S3: 4 | T3: 5 | U3: 6 | W3: 1 | X3: 2 | Y3: 3 | Z3: 4 | AA3: 5 | AB3: 6 | AD3: 1 | AE3: 2 | AF3: 3 | AG3: 4 | AH3: 5 | AI3: 6

Sheet RICEVIMENTO
A1: ORA MENSILE DI RICEVIMENTO A.S. 2025/2026
A2: DOCENTI | B2: MATERIA | C2: GIORNO E ORA DI RICEVIMENTO
A54: SOSTEGNO
